BEGIN:VCALENDAR
VERSION:2.0
PRODID:-//Forum Austriaco di Cultura Roma - ECPv5.12.4//NONSGML v1.0//EN
CALSCALE:GREGORIAN
METHOD:PUBLISH
X-WR-CALNAME:Forum Austriaco di Cultura Roma
X-ORIGINAL-URL:https://www.austriacult.roma.it
X-WR-CALDESC:Eventi per Forum Austriaco di Cultura Roma
BEGIN:VTIMEZONE
TZID:Europe/Berlin
BEGIN:DAYLIGHT
TZOFFSETFROM:+0100
TZOFFSETTO:+0200
TZNAME:CEST
DTSTART:20230326T010000
END:DAYLIGHT
BEGIN:STANDARD
TZOFFSETFROM:+0200
TZOFFSETTO:+0100
TZNAME:CET
DTSTART:20231029T010000
END:STANDARD
END:VTIMEZONE
BEGIN:VEVENT
DTSTART;TZID=Europe/Berlin:20230317T200000
DTEND;TZID=Europe/Berlin:20230317T200000
DTSTAMP:20260421T235309
CREATED:20230227T085959Z
LAST-MODIFIED:20230317T113144Z
UID:12924-1679083200-1679083200@www.austriacult.roma.it
SUMMARY:CANCELLATO! WINTERREISE | Clara Frühstück\, Oliver Welter
DESCRIPTION:Il concerto di oggi 17.03.2023 è annullato a causa di un malore di uno dei due musicisti. \nCi scusiamo per l’inconveniente! \n  \n“Winterreise”\, ciclo di lieder di Franz Schubert e Wilhelm Müller\, nella nuova interpretazione pop di Oliver Welter (voce) e Clara Frühstück (pianoforte) che ha riscosso molto successo in Austria. \nQuesto recital può essere considerato un punto di svolta nella percezione e nell’apprezzamento del capolavoro di Schubert e Müller. Tramite espedienti della musica pop\, folk e rock gli interpreti riescono a trasportare il pubblico nell’anima oscura del ciclo di canzoni più famoso del mondo. \nCenni biografici \nClara Frühstück (*1982) vive e lavora a Vienna. Ha studiato pianoforte\, musica da camera e drammaturgia applicata presso le Università di Musica e Arti dello Spettacolo di Vienna e Graz\, nonché presso la Hanns Eisler Hochschule di Berlino e la Escuela Superior Reina Sofia di Madrid. Oltre alla musica classica e alle sue diverse collaborazioni con musicisti e compositori\, la Frühstück ha perseguito fin da giovane la sua passione per altre forme d’arte e sviluppa concetti stravaganti che consentono un approccio disinibito alla musica\, con lo scopo di raggiungere nuovi pubblici. \nOliver Welter è nato a Klagenfurt e vive e lavora a Vienna. Come frontman della band Naked Lunch ha pubblicato numerosi dischi che sono stati molto apprezzati dalla stampa internazionale e ha effettuato tournée in Europa\, Nord America e Asia. Oltre alla sua attività di cantante\, lavora anche come compositore per il teatro (Volkstheater Vienna\, Schauspielhaus Düsseldorf\, ecc.)\, per il cinema e per la televisione. Da diversi anni lavora con successo anche come autore\, attore e regista teatrale. Ha ricevuto numerosi riconoscimenti e premi per il suo lavoro artistico.
URL:https://www.austriacult.roma.it/evento/winterreise-clara-fruhstuck-oliver-welter/
LOCATION:Roma – Forum Austriaco di Cultura\, Viale Bruno Buozzi 113\, 00197
CATEGORIES:Concerto
ATTACH;FMTTYPE=image/png:https://www.austriacult.roma.it/wp-content/uploads/2023/02/Winter.png
END:VEVENT
END:VCALENDAR