BEGIN:VCALENDAR
VERSION:2.0
PRODID:-//Forum Austriaco di Cultura Roma - ECPv5.12.4//NONSGML v1.0//EN
CALSCALE:GREGORIAN
METHOD:PUBLISH
X-WR-CALNAME:Forum Austriaco di Cultura Roma
X-ORIGINAL-URL:https://www.austriacult.roma.it
X-WR-CALDESC:Eventi per Forum Austriaco di Cultura Roma
BEGIN:VTIMEZONE
TZID:Europe/Berlin
BEGIN:DAYLIGHT
TZOFFSETFROM:+0100
TZOFFSETTO:+0200
TZNAME:CEST
DTSTART:20240331T010000
END:DAYLIGHT
BEGIN:STANDARD
TZOFFSETFROM:+0200
TZOFFSETTO:+0100
TZNAME:CET
DTSTART:20241027T010000
END:STANDARD
END:VTIMEZONE
BEGIN:VEVENT
DTSTART;TZID=Europe/Berlin:20241018T200000
DTEND;TZID=Europe/Berlin:20241018T200000
DTSTAMP:20260421T223934
CREATED:20240925T092425Z
LAST-MODIFIED:20241025T085407Z
UID:21771-1729281600-1729281600@www.austriacult.roma.it
SUMMARY:VOLKS.KUNSTLIED | Rafael FINGERLOS & Sasha EL MOUISSI
DESCRIPTION:Il baritono austriaco Rafael FINGERLOS insieme a Sasha EL MOUISSI al pianoforte portano a Roma il recital VOLKS.KUNSTLIED. \nOltre alle note “Deutsche Volkslieder” di Johannes Brahms\, il programma è incentrato su alcune canzoni popolari che i due musicisti hanno sviluppato da soli nella tradizione brahmsiana. A corollario Rafael Fingerlos e Sasha El Moussi presentano quei compositori austriaci che affondano le proprie radici musicali nella cultura popolare. Da Franz Schubert a Johannes Brahms fino a Alma e Gustav Mahler\, tutti sono stati profondamente ispirati e influenzati dalle canzoni popolari tradizionali e dalla musica popolare più genuina. VOLKS.KUNSTLIED è un’accurata ricerca di tracce musicali che riunisce ciò che appare già di per sé profondamente connesso in natura. \nProgramma 18/10/2024 \nIl 20 ottobre ci sarà un’altra occasione per ascoltare Rafael FINGERLOS e Sasha EL MOUISSI. I musicisti si esibiranno nell’ambito de “I concerti del Quirinale” domenica 20 ottobre e Radio Rai3 trasmetterà il concerto live a partire dalle ore 11.50.  Prenotazione  \nDa ascoltare qui: I concerti del Quirinale | Rafael Fingerlos\, Sascha El Mouissi | Rai Radio 3 | RaiPlay Sound  \n  \nNato a Francoforte sul Meno\, Sasha El Mouissi ha studiato all’Università di Musica di Vienna con Charles Spencer e all’Università di Musica di Magonza. Da diversi anni\, Sascha El Mouissi forma un duo stabile con il baritono Rafael Fingerlos e si esibisce anche con cantanti rinomati come Wolfgang Brendel\, Angelika Kirchschlager\, Thomas Quasthoff\, Ildikó Raimondi\, Sophie Rennert e Wolfgang Resch. La sua fitta agenda di concerti come accompagnatore di lieder e musicista da camera lo ha portato nei più importanti festival internazionali\, come il Lucerne Festival\, la Schubertiade\, il Festival musicale del Schleswig-Holstein\, il “Dialoge” di Salisburgo\, le Wiener Festwochen\, l’Istanbul Music Festival\, London Arts Festival e i festival di Znojmo e Kutna Hora nella Repubblica Ceca. Inoltre\, è ospite regolare del Konzerthaus e del Musikverein di Vienna\, del Schönberg Center\, del Mozarteum di Salisburgo\, dell’Auditorium Cesare Pollini di Padova e dell’Auditorium Gaber di Milano\, di Hong Kong\, di St. Martin in the Fields Londra\, della Tonhalle Düsseldorf\, della Meistersingerhalle di Norimberga\, nonché dei teatri d’opera di Buenos Aires\, Francoforte\, Colonia\, Lubecca\, Nizza\, Wiesbaden e Zagabria. \nRafael Fingerlos è nato a Tamsweg (Salisburgo) e ha studiato canto a Vienna. Nel 2015 ha partecipato al Young Singers Project del Festival di Salisburgo. Dal 2016 al 2020 è stato membro dell’Opera di Stato di Vienna e si è esibito ai Festival di Salisburgo e Bregenz\, al Garsington Festival in Inghilterra e in teatri d’opera come la Semperoper di Dresda\, il Teatro Real Madrid\, il Teatro Colón di Buenos Aires\, l’Opera Vlaanderen\, l’Opera di Malmö e la Scala di Milano. Lieder e concerti hanno un ruolo centrale nella sua attività artistica. Tiene recital a Londra\, Milano\, Firenze\, al Teatro Colòn Buenos Aires\, all’Opera di Nizza\, all’Opera di Colonia\, al Teatro Nazionale di Zagabria\, al Mozarteum di Salisburgo\, al Musikverein e al Konzerthaus di Vienna\, al Festival musicale di Mondsee\, alla Schubertiade del Vorarlberg\, al festival musicale dello Schleswig-Holstein\, al Lucerne Festival o al Festival di musica da camera di Utrecht. A oggi\, ha pubblicato quattro CD di lieder\, cantate di Bach e un recital di arie di Mozart\, accompagnato dall’orchestra del Mozarteum di Salisburgo diretta da Leopold Hager. \n 
URL:https://www.austriacult.roma.it/evento/volks-kunstlied-rafael-fingerlos-sasha-el-mouissi/
LOCATION:Roma – Forum Austriaco di Cultura\, Viale Bruno Buozzi 113\, 00197
CATEGORIES:Musica,Programma
ATTACH;FMTTYPE=image/png:https://www.austriacult.roma.it/wp-content/uploads/2024/09/concerto-18-ottobre.png
END:VEVENT
END:VCALENDAR