BEGIN:VCALENDAR
VERSION:2.0
PRODID:-//Forum Austriaco di Cultura Roma - ECPv5.12.4//NONSGML v1.0//EN
CALSCALE:GREGORIAN
METHOD:PUBLISH
X-WR-CALNAME:Forum Austriaco di Cultura Roma
X-ORIGINAL-URL:https://www.austriacult.roma.it
X-WR-CALDESC:Eventi per Forum Austriaco di Cultura Roma
BEGIN:VTIMEZONE
TZID:Europe/Berlin
BEGIN:DAYLIGHT
TZOFFSETFROM:+0100
TZOFFSETTO:+0200
TZNAME:CEST
DTSTART:20260329T010000
END:DAYLIGHT
BEGIN:STANDARD
TZOFFSETFROM:+0200
TZOFFSETTO:+0100
TZNAME:CET
DTSTART:20261025T010000
END:STANDARD
END:VTIMEZONE
BEGIN:VEVENT
DTSTART;TZID=Europe/Berlin:20260424T183000
DTEND;TZID=Europe/Berlin:20260424T183000
DTSTAMP:20260422T150000
CREATED:20260422T093245Z
LAST-MODIFIED:20260422T093930Z
UID:26058-1777055400-1777055400@www.austriacult.roma.it
SUMMARY:UNO DI NOI | Ludovico Scalmani
DESCRIPTION:Artista borsista 2026 dal Land Salzburg\, Ludovico Scalmani presenta alcuni degli ultimi lavori realizzati durante la residenza d’arte a Bosa-Alghero. \nCuratela: Valentina Piredda-Sardinia \n  \n«Nel mio lavoro artistico indago i meccanismi della riproduzione e\, con essi\, lo slittamento dei significati delle immagini. In un presente iper‑illustrativo metto in discussione i concetti storicamente rivendicati di originalità\, autenticità e autorialità. \nSul piano metodologico opero con collage\, stencil o tecniche di stampa come istanze mediatrici. Questi strumenti funzionano come matrici che si interpongono come correttivi tra la decisione artistica e la superficie pittorica. \nAttraverso la sovversione dell’opera singolare mediante tecniche seriali\, pongo interrogativi sulla percezione\, in un’epoca segnata dalla sovrapproduzione di immagini e da costruzioni di verità concorrenti. Laddove lo spettacolo sostituisce la realtà attraverso un accumulo visivo\, analizzo il potere d’azione sempre più forte dell’immagine”. (Ludovico Scalmani) \n  \nLudovico Scalmani è nato nel 1998 a Salisburgo. Dal 2018 al 2024 ha studiato Belle Arti all’Università di Arti Applicate di Vienna. Successivamente ha svolto un tirocinio in un laboratorio di stampa specializzato in tecniche di stampa tradizionali. Nel 2023 ha frequentato l’Accademia Internazionale Estiva d’Arte di Salisburgo grazie a una borsa di studio del Land Salzburg. Nel 2026 ha vinto il concorso per una borsa di studio dal Land Salzburg come Artist-in-Residence per la Sardegna /Fondo VP-Sardinia. https://ludovicoscalmani.com/shows.html \n  \nInformazione evento \nDurata della mostra: 25 aprile – 11 maggio 2026 \nOrario: 16.30-19.30. Il 1° maggio: ore 14.00- 17.00 \nAltri orari su appuntamento con mail a: galleriacult@gmail.com
URL:https://www.austriacult.roma.it/evento/uno-di-noi-ludovico-scalmani/
LOCATION:Alghero – Galleria CULT\, Bastioni Marco Polo 39 A
CATEGORIES:arte contemporanea,Inaugurazione
ATTACH;FMTTYPE=image/jpeg:https://www.austriacult.roma.it/wp-content/uploads/2026/04/HP-Ludovico-Scalmani_Uno_di_noi_260420.jpg
END:VEVENT
END:VCALENDAR