BEGIN:VCALENDAR
VERSION:2.0
PRODID:-//Forum Austriaco di Cultura Roma - ECPv5.12.4//NONSGML v1.0//EN
CALSCALE:GREGORIAN
METHOD:PUBLISH
X-WR-CALNAME:Forum Austriaco di Cultura Roma
X-ORIGINAL-URL:https://www.austriacult.roma.it
X-WR-CALDESC:Eventi per Forum Austriaco di Cultura Roma
BEGIN:VTIMEZONE
TZID:Europe/Berlin
BEGIN:DAYLIGHT
TZOFFSETFROM:+0100
TZOFFSETTO:+0200
TZNAME:CEST
DTSTART:20230326T010000
END:DAYLIGHT
BEGIN:STANDARD
TZOFFSETFROM:+0200
TZOFFSETTO:+0100
TZNAME:CET
DTSTART:20231029T010000
END:STANDARD
END:VTIMEZONE
BEGIN:VEVENT
DTSTART;TZID=Europe/Berlin:20230227T180000
DTEND;TZID=Europe/Berlin:20230227T180000
DTSTAMP:20260421T185917
CREATED:20230124T143301Z
LAST-MODIFIED:20230215T091806Z
UID:12815-1677520800-1677520800@www.austriacult.roma.it
SUMMARY:UN PARADISO AMARO *VIAGGIO A ROMA
DESCRIPTION:Un Paradiso Amaro *Viaggio a Roma è il risultato di una ricerca artistica sulla scultrice ebrea Teresa Feodorowna Ries (1866-1956) – una delle 5 donne che partecipò per l’Austria all’Esposizione Internazionale di Belle Arti del 1911 a Roma – volta a presentare questa celebrità della scena artistica viennese di inizio Novecento in un’ottica moderna e attuale. La mostra completamente al femminile prende spunto da un progetto di ricerca dell’Archivio TFR su Teresa Feodorowna Ries e ne traduce in immagini la sezione intitolata: Viaggiare ed esporre. La selezione\, operata dalle curatrici Valerie Habsburg e Judith Augustinovič\, unisce opere di artiste contemporanee a documenti e sculture della stessa Ries. Fra queste\, esposta per la prima volta in assoluto\, anche la scultura bronzea dell’artista russo-austriaca Saint without a Name. \nCon opere di: Teresa Feodorowna Ries\, Judith Augustinovič\, Mika Aya Azagi\, Anna Bochkova\, Valerie Habsburg\, Anka Leśniak\, Anita Steinwidder \nCOMUNICATO STAMPA  \nLa mostra rimane aperta al pubblico fino al 24 marzo (lun-ven ore 9-17).
URL:https://www.austriacult.roma.it/evento/un-paradiso-amaro-viaggio-a-roma/
LOCATION:Roma – Forum Austriaco di Cultura\, Viale Bruno Buozzi 113\, 00197
CATEGORIES:Inaugurazione
ATTACH;FMTTYPE=image/jpeg:https://www.austriacult.roma.it/wp-content/uploads/2023/01/Reisevorbereitung-Judith-Augustinovic-Anna-Bochkova-Valerie-Habsburg-TFR-Archive-©-Valerie-Habsburg-2023.jpg
END:VEVENT
END:VCALENDAR