BEGIN:VCALENDAR
VERSION:2.0
PRODID:-//Forum Austriaco di Cultura Roma - ECPv5.12.4//NONSGML v1.0//EN
CALSCALE:GREGORIAN
METHOD:PUBLISH
X-WR-CALNAME:Forum Austriaco di Cultura Roma
X-ORIGINAL-URL:https://www.austriacult.roma.it
X-WR-CALDESC:Eventi per Forum Austriaco di Cultura Roma
BEGIN:VTIMEZONE
TZID:Europe/Berlin
BEGIN:DAYLIGHT
TZOFFSETFROM:+0100
TZOFFSETTO:+0200
TZNAME:CEST
DTSTART:20210328T010000
END:DAYLIGHT
BEGIN:STANDARD
TZOFFSETFROM:+0200
TZOFFSETTO:+0100
TZNAME:CET
DTSTART:20211031T010000
END:STANDARD
END:VTIMEZONE
BEGIN:VEVENT
DTSTART;TZID=Europe/Berlin:20210617T200000
DTEND;TZID=Europe/Berlin:20210617T200000
DTSTAMP:20260422T050648
CREATED:20210527T083401Z
LAST-MODIFIED:20210611T122957Z
UID:10453-1623960000-1623960000@www.austriacult.roma.it
SUMMARY:TRIO DIKNU SCHNEEBERGER
DESCRIPTION:Diknu Schneeberger (chitarra)\nJulian Wohlmuth (chitarra)\nChristian Wendt (contrabasso) \nIl Forum Austriaco di Cultura Roma inaugura la stagione estiva nel proprio giardino con il concerto del Trio Diknu Schneeberger\, ovvero Diknu Schneeberger\, Julian Wohlmuth e Christian Wendt\, che si esibisce in un programma ricco di varietà ritmiche dove spiccano le composizioni di Diknu Schneeberger arrangiate per due chitarre e contrabbasso. \n«Quando compongo per me è importante che le mie melodie si possano seguire facilmente\, perchè io suono per il cuore della gente. Nel programma sentirete swing\, bossanova\, samba\, valzer\, funk bolero e altro ancora. Tutto in stile gipsy jazz\, il che significa che suoniamo tutti i groove senza batteria. La chitarra ritmica sostituisce il groove della batteria. Questo crea un bel suono che noi periodicamente approfondiamo\, miglioriamo e sviluppiamo durante le nostre prove.» (Diknu Schneeberger) \nLa partecipazione all’evento è consentito esclusivamente su prenotazione (nome\, cognome e telefono) e nel rispetto del distanziamento secondo il protocollo Covid-19. \nLa prenotazione va inviata all’indirizzo prenotazione.forumaustriaco@gmail.com  ed è valida solo con e-mail di conferma da presentare all’ingresso.
URL:https://www.austriacult.roma.it/evento/trio-diknu-schneeberger-diknu-schneeberger-chitarra-julian-wohlmuth-chitarra-martin-heinzle-contrabasso/
LOCATION:Roma – Forum Austriaco di Cultura\, Viale Bruno Buozzi 113\, 00197
CATEGORIES:Musica
ATTACH;FMTTYPE=image/jpeg:https://www.austriacult.roma.it/wp-content/uploads/2021/05/SchneebergerTrio_1_c-Christoph-Lehner.jpg
END:VEVENT
END:VCALENDAR