BEGIN:VCALENDAR
VERSION:2.0
PRODID:-//Forum Austriaco di Cultura Roma - ECPv5.12.4//NONSGML v1.0//EN
CALSCALE:GREGORIAN
METHOD:PUBLISH
X-WR-CALNAME:Forum Austriaco di Cultura Roma
X-ORIGINAL-URL:https://www.austriacult.roma.it
X-WR-CALDESC:Eventi per Forum Austriaco di Cultura Roma
BEGIN:VTIMEZONE
TZID:Europe/Berlin
BEGIN:DAYLIGHT
TZOFFSETFROM:+0100
TZOFFSETTO:+0200
TZNAME:CEST
DTSTART:20250330T010000
END:DAYLIGHT
BEGIN:STANDARD
TZOFFSETFROM:+0200
TZOFFSETTO:+0100
TZNAME:CET
DTSTART:20251026T010000
END:STANDARD
END:VTIMEZONE
BEGIN:VEVENT
DTSTART;TZID=Europe/Berlin:20251207T160000
DTEND;TZID=Europe/Berlin:20251207T170000
DTSTAMP:20260421T132529
CREATED:20251117T095951Z
LAST-MODIFIED:20251127T150434Z
UID:24786-1765123200-1765126800@www.austriacult.roma.it
SUMMARY:TONIO SCHACHINGER
DESCRIPTION:Tonio Schachinger\, autore austriaco vincitore con ECHTZEITALTER (IN TEMPO REALE) del Deutscher Buchpreis nel 2023\, il maggiore premio letterario in lingua tedesca\, si presenta a Roma in dialogo con Edoardo Prati. \n  \n «Una storia acuta\, precisa e profonda sui giovani del ventunesimo secolo. Un eccezionale ro­manzo contemporaneo». \nFrankfurter Allgemeine Sonntagszeitung \n  \n\nEcco cosa ne scrive Marino Freschi:\nSCHACHINGER VA IN COLLEGIO \nVecchia Austria\, quella della «Grande Vienna»\, nel romanzo di Tonio Schachinger\, astro nascente della letteratura austriaca. Ci troviamo il Törless di Musil: collegio\, insegnanti sadici pur tuttavia custodi della letteratura occidentale\, a cui infine il protagonista s’aggrappa per uscire dal suo mondo-rifugio di videogiochi\, il nascondiglio che ogni adolescente si costruisce\, come Törkess o i collegiali dell’Attimo fuggente. Solo che qui siamo a Vienna\, capitale stralunata e grandiosa nella sua decadenza. (recensione di Marino Freschi\, da “Il Giornale” del 20.07.2025) \n  \nTonio Schachinger (Nuova Delhi\, 1992) ha studiato Letteratura tedesca all’Università di Vien­na. Il suo primo romanzo\, Nicht wie ihr (2019)\, è stato selezionato per Rauris Literature Prize e per il German Book Prize\, premio che ha vinto nel 2023 con In tempo reale. \n  \nIN TEMPO REALE di Tonio Schachinger \nIl romanzo esce in Italia per la casa editrice Sellerio nella traduzione di Francesca Gabello. \n  \nscheda libro Sellerio \n  \nBiglietti: https://plpl.it/biglietti/ \n  \n  \nIn cooperazione con: \n \nGoethe-Institut Rom \n 
URL:https://www.austriacult.roma.it/evento/tonio-schachinger/
LOCATION:Roma – LA NUVOLA (Sala Luna)\, viale Asia 40
CATEGORIES:Incontro,Letteratura
ATTACH;FMTTYPE=image/jpeg:https://www.austriacult.roma.it/wp-content/uploads/2025/11/HP-Tonio-Schachinger-©-Anna-Breit.jpg
END:VEVENT
END:VCALENDAR