BEGIN:VCALENDAR
VERSION:2.0
PRODID:-//Forum Austriaco di Cultura Roma - ECPv5.12.4//NONSGML v1.0//EN
CALSCALE:GREGORIAN
METHOD:PUBLISH
X-WR-CALNAME:Forum Austriaco di Cultura Roma
X-ORIGINAL-URL:https://www.austriacult.roma.it
X-WR-CALDESC:Eventi per Forum Austriaco di Cultura Roma
BEGIN:VTIMEZONE
TZID:Europe/Berlin
BEGIN:DAYLIGHT
TZOFFSETFROM:+0100
TZOFFSETTO:+0200
TZNAME:CEST
DTSTART:20210328T010000
END:DAYLIGHT
BEGIN:STANDARD
TZOFFSETFROM:+0200
TZOFFSETTO:+0100
TZNAME:CET
DTSTART:20211031T010000
END:STANDARD
END:VTIMEZONE
BEGIN:VEVENT
DTSTART;TZID=Europe/Berlin:20210926T110000
DTEND;TZID=Europe/Berlin:20210926T200000
DTSTAMP:20260422T074439
CREATED:20210921T112421Z
LAST-MODIFIED:20210921T115020Z
UID:10893-1632654000-1632686400@www.austriacult.roma.it
SUMMARY:TERRA ARTE
DESCRIPTION:TERRA ARTE è un parco di scultura contemporanea\, voluto dallo scultore Sandro Scarmiglia\, che riunisce in uno scenario naturale e rurale opere di diversi artisti fra cui l’austriaco Karl Hartwig Kaltner (https://www.austriacult.roma.it/evento/terra-arte-karl-hartwig-kaltner/). \nIl 26 settembre vengono presentate le opere di 7 nuovi artisti – Carlo Brignola\, Paolo Garau\, Monica Sarandrea\, Mara van Wees\, Vincenzo Palombo\, Marco Fioramanti – ad ampliare quello che è un progetto di contemporaneità in continuo movimento in cui le opere esposte\, colloquiando tra loro\, daranno vita ad un dialogo artistico che vuole generare una riflessione sul significato dell’arte quale strumento educativo. \nComunicato stampa evento Terra Arte  \nper maggiori informazioni sull’artista austriaco: Karl Hartwig Kaltner – Terra Arte \nper maggiori informazioni sul parco: www.terraarte.it \n 
URL:https://www.austriacult.roma.it/evento/terra-arte/
LOCATION:Blera (VT) – Località Pariano snc
CATEGORIES:arte contemporanea
ATTACH;FMTTYPE=image/jpeg:https://www.austriacult.roma.it/wp-content/uploads/2021/09/Kaltner4.jpg
END:VEVENT
END:VCALENDAR