BEGIN:VCALENDAR
VERSION:2.0
PRODID:-//Forum Austriaco di Cultura Roma - ECPv5.12.4//NONSGML v1.0//EN
CALSCALE:GREGORIAN
METHOD:PUBLISH
X-WR-CALNAME:Forum Austriaco di Cultura Roma
X-ORIGINAL-URL:https://www.austriacult.roma.it
X-WR-CALDESC:Eventi per Forum Austriaco di Cultura Roma
BEGIN:VTIMEZONE
TZID:Europe/Berlin
BEGIN:DAYLIGHT
TZOFFSETFROM:+0100
TZOFFSETTO:+0200
TZNAME:CEST
DTSTART:20230326T010000
END:DAYLIGHT
BEGIN:STANDARD
TZOFFSETFROM:+0200
TZOFFSETTO:+0100
TZNAME:CET
DTSTART:20231029T010000
END:STANDARD
END:VTIMEZONE
BEGIN:VEVENT
DTSTART;TZID=Europe/Berlin:20230920T173000
DTEND;TZID=Europe/Berlin:20230920T173000
DTSTAMP:20260421T021655
CREATED:20230828T074747Z
LAST-MODIFIED:20230918T105749Z
UID:13637-1695231000-1695231000@www.austriacult.roma.it
SUMMARY:TENSE_INTENSE  Barbara Doser | Hofstetter Kurt
DESCRIPTION:Nella mostra „tense_intense“\, allestita presso il Museo Carlo Bilotti\, il collettivo artistico austriaco Parallel Media – Barbara Doser | Hofstetter Kurt invita a riflettere sulla concatenazione e la simultaneità degli opposti. La convivenza di caos e ordine\, di instabilità e stabilità\, di confine e infinito\, di razionalità e illogicità viene rappresentata nei mondi astratti di forma e suono in installazioni video\, tavole dipinte\, fotografie e sculture. \nwww.sunpendulum.at/parallelmedia/tense_intense.html \n “tense” è una forma di densità nella nostra arte basata sul tempo\, caratterizzata sia dall‘intensità che dall‘estensione. Riguarda i fenomeni dell‘essere all‘interno del mondo reale\, che affrontiamo attraverso i media in un mondo astratto di forma e suono. Questa interazione crea “orizzonti di eventi” in cui opposti come razionalità e irrazionalità coesistono e si dissolvono. \n(Parallel Media – Barbara Doser | Hofstetter Kurt\, 2021) \n  \nCenni biografici \nBarbara Doser lavora con i formati della videoarte\, della scultura\, della pittura e dell’arte grafica\, oltre che della fotografia. Usa la tecnologia dei feedback video per generare forme astratte in movimento e movimenti come forma. Anche temi come l’esistenza simultanea dell’individuo e della società\, dell’uomo e della donna\, e il potenziale conflitto che ne deriva\, diventano metafore artistico-astratte. \nHofstetter Kurt è un artista concettuale e multimediale e\, inoltre\, un sound designer e compositore. La matematica filosofica\, che si occupa di infiniti\, lo ispira a sperimentare nella sua arte parallelismo e movimento circolare in modo intuitivo. Il suo lavoro offre nuove esplorazioni di concetti come Möbius-Sounds o Ambient Media Art e geometrie costruttive\, come la Tecnica di Composizione Supersimmetrica e la prima struttura di tessitura aperiodica nella storia umana\, da cui deriva l’Ambient Tactile Art. \nInfo: www.museocarlobilotti.it/it/mostra-evento/barbara-doser-hofstetter-kurt-tenseintense
URL:https://www.austriacult.roma.it/evento/tense_intense-hofstetter-kurt-barbara-dosar-2/
LOCATION:Roma – Museo C. Bilotti\, Viale Fiorello La Guardia 6
CATEGORIES:Inaugurazione
ATTACH;FMTTYPE=image/jpeg:https://www.austriacult.roma.it/wp-content/uploads/2023/08/Barbara-Doser-Drei-Grazien-vielen-Dank-2018-Videoprojektion_res.jpg
END:VEVENT
END:VCALENDAR