BEGIN:VCALENDAR
VERSION:2.0
PRODID:-//Forum Austriaco di Cultura Roma - ECPv5.12.4//NONSGML v1.0//EN
CALSCALE:GREGORIAN
METHOD:PUBLISH
X-WR-CALNAME:Forum Austriaco di Cultura Roma
X-ORIGINAL-URL:https://www.austriacult.roma.it
X-WR-CALDESC:Eventi per Forum Austriaco di Cultura Roma
BEGIN:VTIMEZONE
TZID:Europe/Berlin
BEGIN:DAYLIGHT
TZOFFSETFROM:+0100
TZOFFSETTO:+0200
TZNAME:CEST
DTSTART:20220327T010000
END:DAYLIGHT
BEGIN:STANDARD
TZOFFSETFROM:+0200
TZOFFSETTO:+0100
TZNAME:CET
DTSTART:20221030T010000
END:STANDARD
END:VTIMEZONE
BEGIN:VEVENT
DTSTART;TZID=Europe/Berlin:20221127T180000
DTEND;TZID=Europe/Berlin:20221127T180000
DTSTAMP:20260422T020214
CREATED:20221102T100052Z
LAST-MODIFIED:20221102T100249Z
UID:12583-1669572000-1669572000@www.austriacult.roma.it
SUMMARY:Suono e immagine nel cinema austriaco: A qualcuno piace (Billy) Wilder
DESCRIPTION:Così Valentina Piredda-Sardinia\, curatrice del progetto Austriamentis: \nAnche la città di Bosa ospita il progetto Austriamentis dedicato al Cinema Austriaco\, curato da Mauro Porcu e Valentina Piredda-Sardinia. \nNei progetti espositivi di Austriamentis al Museo Casa Deriu sono stati presentati a partire dal 2020 film e video di artiste e artisti contemporanei in residenza d’arte in Sardegna. \nIl Museo delle Conce nella città sul fiume Temo ospita quest’anno la prima sessione di incontri per animare il pubblico ad approfondire l’avventurosa storia del cinema austriaco. Introduce la conferenza del 27 novembre: Cristina Concu\, Direttrice dei Musei Civici di Bosa. \nSi comincia con la figura di Billy Wilder per proseguire con Fritz Lang. \nSamuel Wilder nasce in Galizia nell’allora territorio austro-ungarico. Dopo gli studi a Vienna\, si trasferirà a Berlino e con l’ascesa del regime nazista espatrierà nel gennaio del 1934 negli Stati Uniti\, dopo aver girato a Parigi il suo primo film da regista insieme a Alexander Esway. Wilder coinvolgerà nei suoi film icone\, modelli\, strutture e ingranaggi del grande schermo anche hollywoodiano rivoluzionandolo dal suo interno. Viale del tramonto (Sunset Boulevard) in cui utilizzerà per la prima volta la narrazione fuori campo. Testimone d’accusa (Witness for the Prosecution)\, Scandalo internazionale (A Foreign Affair) con Marlene Dietrich\, Giorni perduti (The Lost Weekend)\, A qualcuno piace caldo (Some Like It Hot) con Marylin Monroe e l’opera Fedora sono tra i suoi film più straordinari che hanno marcato la storia della Settima Arte. \nI progetti AUSTRIAMENTIS sono stati finora resi possibili grazie alle collaborazioni con: Comune di Bosa e Musei Civici di Bosa (TACS)\, Fondazione Alghero\, Museo Casa Manno\,  Ass. Fondo VP-Sardinia\, Nemapress Edizioni/Salpare\, Roma- Alghero; Land Salzburg e Forum Austriaco di Cultura/Roma\, BMEIA. \n 
URL:https://www.austriacult.roma.it/evento/suono-e-immagine-nel-cinema-austriaco-a-qualcuno-piace-billy-wilder/
LOCATION:Bosa – Museo delle Conce\, via delle Conce 63
CATEGORIES:Cinema
ATTACH;FMTTYPE=image/jpeg:https://www.austriacult.roma.it/wp-content/uploads/2022/11/cMauroPorcuCinemaAustriaco2021.jpg
END:VEVENT
END:VCALENDAR