BEGIN:VCALENDAR
VERSION:2.0
PRODID:-//Forum Austriaco di Cultura Roma - ECPv5.12.4//NONSGML v1.0//EN
CALSCALE:GREGORIAN
METHOD:PUBLISH
X-WR-CALNAME:Forum Austriaco di Cultura Roma
X-ORIGINAL-URL:https://www.austriacult.roma.it
X-WR-CALDESC:Eventi per Forum Austriaco di Cultura Roma
BEGIN:VTIMEZONE
TZID:Europe/Berlin
BEGIN:DAYLIGHT
TZOFFSETFROM:+0100
TZOFFSETTO:+0200
TZNAME:CEST
DTSTART:20220327T010000
END:DAYLIGHT
BEGIN:STANDARD
TZOFFSETFROM:+0200
TZOFFSETTO:+0100
TZNAME:CET
DTSTART:20221030T010000
END:STANDARD
END:VTIMEZONE
BEGIN:VEVENT
DTSTART;VALUE=DATE:20221117
DTEND;VALUE=DATE:20221118
DTSTAMP:20260421T163115
CREATED:20221028T130109Z
LAST-MODIFIED:20221114T150551Z
UID:12526-1668643200-1668729599@www.austriacult.roma.it
SUMMARY:STORYTELLING:EUROPE!
DESCRIPTION:La mostra „The European Pavilion“ presenta\, tra gli altri contributi europei\, il progetto “Brunnenpassage” di Fariba Mosleh e Natalia Hecht a Vienna. Con il titolo StoryTelling:Europe! la European Cultural Foundation ha selezionato due produzioni artistiche sviluppate nell’abito dell’iniziativa The European Pavilion a Roma. \nwww.brunnenpassage.at \nOrari: giovedì  \nProgramma (pdf) \nProgramma Facebook
URL:https://www.austriacult.roma.it/evento/storytellingeurope/
LOCATION:Roma – Goethe Institut\, Via Savoia 15
CATEGORIES:Inaugurazione
ATTACH;FMTTYPE=image/jpeg:https://www.austriacult.roma.it/wp-content/uploads/2022/10/Banners-FB-events_6.jpg
END:VEVENT
END:VCALENDAR