BEGIN:VCALENDAR
VERSION:2.0
PRODID:-//Forum Austriaco di Cultura Roma - ECPv5.12.4//NONSGML v1.0//EN
CALSCALE:GREGORIAN
METHOD:PUBLISH
X-WR-CALNAME:Forum Austriaco di Cultura Roma
X-ORIGINAL-URL:https://www.austriacult.roma.it
X-WR-CALDESC:Eventi per Forum Austriaco di Cultura Roma
BEGIN:VTIMEZONE
TZID:Europe/Berlin
BEGIN:DAYLIGHT
TZOFFSETFROM:+0100
TZOFFSETTO:+0200
TZNAME:CEST
DTSTART:20210328T010000
END:DAYLIGHT
BEGIN:STANDARD
TZOFFSETFROM:+0200
TZOFFSETTO:+0100
TZNAME:CET
DTSTART:20211031T010000
END:STANDARD
END:VTIMEZONE
BEGIN:VEVENT
DTSTART;VALUE=DATE:20211115
DTEND;VALUE=DATE:20211128
DTSTAMP:20260422T043017
CREATED:20211116T134355Z
LAST-MODIFIED:20211117T095230Z
UID:11142-1636934400-1638057599@www.austriacult.roma.it
SUMMARY:ANJA RONACHER | Shelter
DESCRIPTION:Ecco come la curatrice Valentina Piredda-Sardinia\, presenta la personale fotografica dell’artista austriaca: \n«L’artista lavora in analogico e mostra un ciclo di scatti realizzati al Museo del Louvre a Parigi. La sua attenzione è rivolta qui a manufatti che erano probabilmente oggetto di dono o facenti parte di rituali di divinazione e provenenti da epoche remote e – nel caso specifico – appartenenti alla cultura mesopotamica. Per i piccoli modelli architettonici in argilla ritroviamo analogie dentro i racconti di Ogotemmeli\, nel libro “Dieu d’eau” di Marcel Griaule. \nIn questi suoi lavori Anja Ronacher\, pur allontanandosi dall’utilizzo del fondo nero a lei tipico\, combina ancora il principio di appropriazione con la “restituzione” o “ricompensa” riportando\, attraverso la fotografia\, il manufatto al suo valore originale di oggetto/soggetto. \nGli articoli museali\, di materiale argilloso\, subiscono quindi una sorta di revitalizzazione mediante il processo chimico in camera oscura. O forse – più ambiziosamente – l’artista con i suoi scatti persegue ancora il tentativo di emancipazione dall’esproprio colonizzante\, anche museale.» \ncenni biografici \nAnja Ronacher (Salisburgo 1979\, Austria) ha studiato fotografia al Royal College of Art di Londra e all’Accademia Estone delle Arti a Tallinn\, nonché Scenografia all’Università di Arti Applicate di Vienna. Recentemente le sue opere sono state esposte in personali al Krinzinger Projekte\, Vienna\, a Leto\, Varsavia\, e in mostre collettive al Museo Nazionale Lituano d’Arte e alla Sharjah Art Foundation negli Emirati Arabi Uniti. L’artista vive e lavora a Vienna. (www.anjaronacher.com) \nL’artista ha vinto quest’anno la borsa di studio per la residenza d’arte in Sardegna. \nL’esposizione si avvale del contributo del Land Salzburg e del Forum Austriaco di Cultura di Roma. E’ parte del progetto Kunstschaffende – Austriamentis 2021 che si realizza in collaborazione con: Mauro Porcu\, Museo Casa Manno\, Alghero; Museo Casa Deriu\, Comune di Bosa; TACS; Ass. Fondo VP-Sardinia\, Alghero; Ass. Salpare\, Roma.
URL:https://www.austriacult.roma.it/evento/shelter-anja-ronacher/
LOCATION:Alghero – Galleria CULT\, Bastioni Marco Polo\, 39 a
CATEGORIES:Mostra
ATTACH;FMTTYPE=image/jpeg:https://www.austriacult.roma.it/wp-content/uploads/2021/11/SnipImage3.jpg
END:VEVENT
END:VCALENDAR