BEGIN:VCALENDAR
VERSION:2.0
PRODID:-//Forum Austriaco di Cultura Roma - ECPv5.12.4//NONSGML v1.0//EN
CALSCALE:GREGORIAN
METHOD:PUBLISH
X-WR-CALNAME:Forum Austriaco di Cultura Roma
X-ORIGINAL-URL:https://www.austriacult.roma.it
X-WR-CALDESC:Eventi per Forum Austriaco di Cultura Roma
BEGIN:VTIMEZONE
TZID:Europe/Berlin
BEGIN:DAYLIGHT
TZOFFSETFROM:+0100
TZOFFSETTO:+0200
TZNAME:CEST
DTSTART:20260329T010000
END:DAYLIGHT
BEGIN:STANDARD
TZOFFSETFROM:+0200
TZOFFSETTO:+0100
TZNAME:CET
DTSTART:20261025T010000
END:STANDARD
END:VTIMEZONE
BEGIN:VEVENT
DTSTART;VALUE=DATE:20260512
DTEND;VALUE=DATE:20260516
DTSTAMP:20260422T164405
CREATED:20260422T102408Z
LAST-MODIFIED:20260422T102408Z
UID:26075-1778544000-1778889599@www.austriacult.roma.it
SUMMARY:SCIENCE FASHION | Christina Dörfler\, Anna Berit\, Ute Ploier
DESCRIPTION:Christina Dörfler\, Anna Berit e Ute Ploier sono alcune tra le voci più innovative della ricerca internazionale nel campo della moda sperimentale. Dal 12 al 15 maggio partecipano a “Science Fashion. Interazioni tra moda\, scienza e nuove tecnologie”\, un programma di incontri e workshop a cura di Dobrila Denegri\, realizzato in collaborazione con il museo MACRO. L’iniziativa vuole riflettere sui nuovi scenari aperti dall’intelligenza artificiale\, dai biomateriali e dalle tecnologie emergenti\, e interrogare il rapporto tra moda\, scienza e pratiche creative contemporanee. \nChristina Dörfler terrà il workshop “Colour Lab – L’arte e la scienza dei pigmenti naturali nelle pratiche tessili sostenibili” presso i laboratori della NABA e presenterà la sua ricerca insieme agli studenti nella galleria “Spazio Magma” il 15 maggio dalle 11.00 alle 13.00. \nAnna Breit presenterà un’installazione di stampe su Tencel Lyocell\, scaturite dal shooting delle collezioni degli studenti del “Fashion & Technology”\, un programma di laurea triennale e magistrale presso l’Università di Arte e Design di Linz. \nUte Ploier partecipa alla conferenza con l’intervento “Fashion & Technology”\, elaborando sulle modalità innovative e sperimentali di concepire e produrre moda adottate all’interno di programmi di laurea triennale e magistrale presso l’Università di Arte e Design di Linz. \n  \nProgramma: \n12 MAGGIO 2026 | ore 10.00 – 18.00 \nWORKSHOP \nNABA\, Nuova Accademia di Belle Arti\, Campus di Roma\, Via Ostiense 92   \n  \n13 / 15 MAGGIO 2026 | ore 14.30 – 19.00 \nCONFERENZA \nMACRO – Museo d’Arte Contemporanea\, Rome\, Via Nizza\, 138 \n  \n13 / 15 MAGGIO 2026  \nMOSTRE \n2026 MACRO e NABA \n  \nInformazione evento  \nhttps://efa.community/science-fashion/ \n  \n  \nAnna Breit\, fotografa \nAnna si muove tra la fotografia di moda e i progetti artistici\, concentrandosi sulle persone e sulle relazioni\, in particolare su quelle familiari e amicali. Fotografa esclusivamente in analogico e utilizza spesso un flash potente\, ritoccando pochissimo le sue foto. Nel 2020 ha pubblicato il suo primo libro fotografico\, “Teens (in their rooms)”\, che ha attirato l’attenzione internazionale. \n  \nChristina Dörfler\, ricercatrice e fashion artist \nChristina è un’artista\, insegnante e ricercatrice che insegna arte e design della moda presso la KMD-Herbststrasse a Vienna. Ha studiato educazione artistica e tessile\, con particolare attenzione al design della moda e del tessile\, presso l’Università di Arti Applicate di Vienna. Attraverso il suo progetto interdisciplinare in corso\, “Excuse My Dust Series”\, sperimenta varie tecniche di tintura non ortodosse che impiegano pigmenti naturali e trattamenti superficiali sostenibili. \n  \nUte Ploier\, fashion designer\, ricercatrice \nDal 2015 Ute è direttrice artistica di “Fashion & Technology”\, un programma di laurea triennale e magistrale presso l’Università di Arte e Design di Linz\, che mira a trovare nuove soluzioni nella moda attraverso una combinazione sostenibile tra tradizione e tecnologia. A partire dal 2003\, il suo marchio omonimo si è concentrato sull’abbigliamento maschile e ha ottenuto numerosi premi grazie a un approccio al design transdisciplinare che integra moda\, media\, spazio e tecnologia.
URL:https://www.austriacult.roma.it/evento/science-fashion-christina-dorfler-anna-berit-ute-ploier/
LOCATION:Roma – MACRO | NABA
CATEGORIES:arte contemporanea,Design,Incontro,Moda,Mostra
ATTACH;FMTTYPE=image/jpeg:https://www.austriacult.roma.it/wp-content/uploads/2026/04/HP-foto-©-Natascha-Unkart.jpg
END:VEVENT
END:VCALENDAR