BEGIN:VCALENDAR
VERSION:2.0
PRODID:-//Forum Austriaco di Cultura Roma - ECPv5.12.4//NONSGML v1.0//EN
CALSCALE:GREGORIAN
METHOD:PUBLISH
X-WR-CALNAME:Forum Austriaco di Cultura Roma
X-ORIGINAL-URL:https://www.austriacult.roma.it
X-WR-CALDESC:Eventi per Forum Austriaco di Cultura Roma
BEGIN:VTIMEZONE
TZID:Europe/Berlin
BEGIN:DAYLIGHT
TZOFFSETFROM:+0100
TZOFFSETTO:+0200
TZNAME:CEST
DTSTART:20210328T010000
END:DAYLIGHT
BEGIN:STANDARD
TZOFFSETFROM:+0200
TZOFFSETTO:+0100
TZNAME:CET
DTSTART:20211031T010000
END:STANDARD
BEGIN:DAYLIGHT
TZOFFSETFROM:+0100
TZOFFSETTO:+0200
TZNAME:CEST
DTSTART:20220327T010000
END:DAYLIGHT
BEGIN:STANDARD
TZOFFSETFROM:+0200
TZOFFSETTO:+0100
TZNAME:CET
DTSTART:20221030T010000
END:STANDARD
END:VTIMEZONE
BEGIN:VEVENT
DTSTART;VALUE=DATE:20210928
DTEND;VALUE=DATE:20220124
DTSTAMP:20260422T043635
CREATED:20210910T115732Z
LAST-MODIFIED:20211117T095535Z
UID:10850-1632787200-1642982399@www.austriacult.roma.it
SUMMARY:ANNA-SOPHIE BERGER & TEAK RAMOS | You can have my brain
DESCRIPTION:Il dialogo artistico tra Anna-Sophie Berger e Teak Ramos ha origine da un interesse condiviso per l’universo del fashion in senso ampio\, oltre che per gli aspetti più tecnici relativi alla costruzione di un abito. Con “You can have my brain” le artiste collaborano per la prima volta applicando al loro lavoro queste tematiche e partono proprio dall’archivio nato dalle loro conversazioni per concepire una serie di nuove opere per la sezione PALESTRA del MACRO. \n“You can have my brain” presenta una serie di stampe A4 in bianco e nero applicate su capi in poliestere\, cotone e tessuti da sartoria indossate da 10 manichini. Gli outfit creati dalle artiste ripercorrono testi\, immagini e riflessioni teoriche sulla cultura materiale e sulla moda vista nel quotidiano\, con una digressione sulla prima modernità (dal diciassettesimo al diciottesimo secolo). I diversi elementi si stratificano incorporandosi alla ricerca di Berger e Ramos\, in alcuni casi per concentrarsi su uno specifico elemento di indagine\, in altri per affrontare in modo più comparativo e articolato il tema dell’ornamento del corpo\, delle sue implicazioni socio-culturali e della sua evoluzione concettuale e comunicativa. Funzionando come delle vere e proprie superfici di ricerca\, gli stessi abiti traggono la loro composizione da forme convenzionali che sfuggono a collocazioni e attribuzioni specifiche. Visivi e testuali al tempo stesso\, gli outfit sono concepiti come una singola opera e saranno accompagnati da elementi scultorei e da una documentazione video e foto. \n#PALESTRA è uno spazio a disposizione degli artisti per testare opere d’arte in fieri o non ancora del tutto compiute\, delle “quasi opere” da esporre liberamente al pubblico senza alcun obbligo di pianificazione o progettazione. Una palestra per allenare la mente ad interrogarsi sullo status dell’opera e della mostra. \nOrari: mar.-giov. e dom. ore 15.00 – 20.00 | ven.-sab. ore 15.00 – 22.00 \nPer info su modalità d’accesso: https://www.museomacro.it/it/visita/ \ncenni biografici \nAnna-Sophie Berger\, nata nel 1989 a Vienna (Austria)\, studia moda e arte trasmediale presso l’università di arti applicate di Vienna. I suoi lavori sono stati esposti al: mumok (Vienna)\, White Flag Projects Library (St. Louis\, USA)\, Ludlow 38 (New York\, USA) Kunsthaus Bregenz. Berger ha vinto il Kapsch Contemporary Art Prize nel 2016.
URL:https://www.austriacult.roma.it/evento/palestra-you-can-have-my-brain-anna-sophie-berger-e-teak-ramos/
LOCATION:Roma – MACRO\, Via Nizza 138
CATEGORIES:Mostra
ATTACH;FMTTYPE=image/jpeg:https://www.austriacult.roma.it/wp-content/uploads/2021/09/BRain.jpg
END:VEVENT
END:VCALENDAR