BEGIN:VCALENDAR
VERSION:2.0
PRODID:-//Forum Austriaco di Cultura Roma - ECPv5.12.4//NONSGML v1.0//EN
CALSCALE:GREGORIAN
METHOD:PUBLISH
X-WR-CALNAME:Forum Austriaco di Cultura Roma
X-ORIGINAL-URL:https://www.austriacult.roma.it
X-WR-CALDESC:Eventi per Forum Austriaco di Cultura Roma
BEGIN:VTIMEZONE
TZID:Europe/Berlin
BEGIN:DAYLIGHT
TZOFFSETFROM:+0100
TZOFFSETTO:+0200
TZNAME:CEST
DTSTART:20200329T010000
END:DAYLIGHT
BEGIN:STANDARD
TZOFFSETFROM:+0200
TZOFFSETTO:+0100
TZNAME:CET
DTSTART:20201025T010000
END:STANDARD
END:VTIMEZONE
BEGIN:VEVENT
DTSTART;TZID=Europe/Berlin:20200427T180000
DTEND;TZID=Europe/Berlin:20200504T180000
DTSTAMP:20260421T200121
CREATED:20200414T131224Z
LAST-MODIFIED:20200429T094443Z
UID:8346-1588010400-1588615200@www.austriacult.roma.it
SUMMARY:PAIER & VALCIC
DESCRIPTION:Il fisarmonicista Klaus Paier e la violoncellista Asja Valcic lavorano in duo da dieci anni. La loro musica entusiasma pubblico e critica: “Mozzafiato” (Der Spiegel)\, “accordo avvincente (The Guardian). Il viaggio insieme inizia nel 2009 con il loro debutto “À Deux“. Da allora Paier e Valcic fanno della combinazione fisarmonica & violoncello un’esperienza sonora incomparabile. L’album per l’anniversario “Vision for Two – 10 Years” rappresenta un bilancio\, ma anche la continua reinvenzione e prospettiva futura di questo duo visionario. \nSia Paier che Valcic provengono dalla musica classica\, ma si sono allontanati da essa per arrivare al proprio linguaggio musicale universale attraverso l’apertura stilistica. Il suono è sempre il loro punto di partenza\, sonorità setose e lisce\, che nella composizione timbrica classica rendono la loro musica senza tempo. A questo si aggiunge lo spirito portato dal pensiero momentaneo e libero del jazz\, che si combina con le influenze della world music. Il risultato è un’enorme vivacità delle loro opere\, quasi cinematografica. Paier e Valcic invitano l’ascoltatore a immergersi in un mondo sonoro complesso e affascinante. http://www.klauspaier.com/paiervalcic \nprogramma  \n \ncenni biografici \nKlaus Paier (fisarmonica\, bandoneón\, compositore) \nIl fisarmonicista e compositore austriaco si è diplomato al conservatorio di Klagenfurt in fisarmonica\, jazz e composizione. Dal 1994 i primi riconoscimenti come il “Premio Internazionale della Fisarmonica di Castelfidardo”\, aggiudicato per tre anni di seguito. Nel 2011 vince come primo fisarmonicista austriaco il premio “Silver Disc Award” di Mosca. I suoi CD sono stati nominati due volte per l“Amadeus Preis”\, il premio musicale austriaco. Dal 1997 suona in diverse formazioni con cui è spesso in tournée con esibizioni in tutto il mondo. \nAsja Valcic (violoncello\, compositrice) \nAttiva come arrangiatrice\, compositrice e docente\, Asja Valcic\, classe 1967\, nasce a Zagabria dove a 18 anni conclude l’accademia di musica. Seguono gli studi al conservatorio Tschaikowsky di Mosca e al conservatorio di Detmold (Germania). Nel 1995 vince il “Concours International de jeunes concertistes de Douai” (Francia). Ha suonato in diversi ensembles e come solista è stata diretta fra gli altri da Zubin Meta e Kazushi Ono. \n 
URL:https://www.austriacult.roma.it/evento/paier-valcic/
LOCATION:#ConcertiSulSofà #AustriaKulturDigital
CATEGORIES:Musica
ATTACH;FMTTYPE=image/jpeg:https://www.austriacult.roma.it/wp-content/uploads/2020/04/photo_paiervalcic_1a_by_Michael_Reidinger.jpg
END:VEVENT
END:VCALENDAR