BEGIN:VCALENDAR
VERSION:2.0
PRODID:-//Forum Austriaco di Cultura Roma - ECPv5.12.4//NONSGML v1.0//EN
CALSCALE:GREGORIAN
METHOD:PUBLISH
X-WR-CALNAME:Forum Austriaco di Cultura Roma
X-ORIGINAL-URL:https://www.austriacult.roma.it
X-WR-CALDESC:Eventi per Forum Austriaco di Cultura Roma
BEGIN:VTIMEZONE
TZID:Europe/Berlin
BEGIN:DAYLIGHT
TZOFFSETFROM:+0100
TZOFFSETTO:+0200
TZNAME:CEST
DTSTART:20210328T010000
END:DAYLIGHT
BEGIN:STANDARD
TZOFFSETFROM:+0200
TZOFFSETTO:+0100
TZNAME:CET
DTSTART:20211031T010000
END:STANDARD
END:VTIMEZONE
BEGIN:VEVENT
DTSTART;TZID=Europe/Berlin:20210615T180000
DTEND;TZID=Europe/Berlin:20210615T180000
DTSTAMP:20260422T031622
CREATED:20210527T084142Z
LAST-MODIFIED:20210528T150424Z
UID:10456-1623780000-1623780000@www.austriacult.roma.it
SUMMARY:ON CLIMATE CHANGE
DESCRIPTION:La mostra è visitabile fino al 30 luglio 2021 | lun.-ven. | ore 10.00-17.00 \nON CLIMATE CHANGE presenta i lavori selezionati nell’ambito del concorso fotografico indetto dal Forum Austriaco di Cultura Roma in collaborazione con il Dipartimento di Arte e Fotografia dell’Accademia di Belle Arti di Vienna (Fachbereich Kunst und Fotografie der Akademie der Bildenden Künste Wien) e il Dipartimento Arti Visivi dell’Istituto Europeo di Design di Roma. Gli studenti dei due dipartimenti sono stati chiamati a confrontarsi su tematiche quali cambiamento climatico\, sviluppo sostenibile e tutela dell’ambiente. In mostra gli scatti di Alessandro Albrecht\, Olga Shapovalova\, Matteo Capone ed Emilio Perillo. \nLa partecipazione all’evento è consentito esclusivamente su prenotazione (nome\, cognome e telefono) e nel rispetto del distanziamento secondo il protocollo Covid-19. \nLa prenotazione va inviata all’indirizzo prenotazione.forumaustriaco@gmail.com  ed è valida solo con e-mail di conferma da presentare all’ingresso.
URL:https://www.austriacult.roma.it/evento/on-climate-change-3/
LOCATION:Roma – Forum Austriaco di Cultura\, Viale Bruno Buozzi 113\, 00197
CATEGORIES:Inaugurazione
ATTACH;FMTTYPE=image/jpeg:https://www.austriacult.roma.it/wp-content/uploads/2021/04/box.jpg
END:VEVENT
END:VCALENDAR