BEGIN:VCALENDAR
VERSION:2.0
PRODID:-//Forum Austriaco di Cultura Roma - ECPv5.12.4//NONSGML v1.0//EN
CALSCALE:GREGORIAN
METHOD:PUBLISH
X-WR-CALNAME:Forum Austriaco di Cultura Roma
X-ORIGINAL-URL:https://www.austriacult.roma.it
X-WR-CALDESC:Eventi per Forum Austriaco di Cultura Roma
BEGIN:VTIMEZONE
TZID:Europe/Berlin
BEGIN:DAYLIGHT
TZOFFSETFROM:+0100
TZOFFSETTO:+0200
TZNAME:CEST
DTSTART:20210328T010000
END:DAYLIGHT
BEGIN:STANDARD
TZOFFSETFROM:+0200
TZOFFSETTO:+0100
TZNAME:CET
DTSTART:20211031T010000
END:STANDARD
END:VTIMEZONE
BEGIN:VEVENT
DTSTART;TZID=Europe/Berlin:20210506T100000
DTEND;TZID=Europe/Berlin:20210506T170000
DTSTAMP:20260422T103024
CREATED:20210506T071505Z
LAST-MODIFIED:20210509T084144Z
UID:10343-1620295200-1620320400@www.austriacult.roma.it
SUMMARY:ON CLIMATE CHANGE
DESCRIPTION:ON CLIMATE CHANGE presenta i lavori selezionati nell’ambito del concorso fotografico indetto dal Forum Austriaco di Cultura Roma in collaborazione con il Dipartimento di Arte e Fotografia dell’Accademia di Belle Arti di Vienna (Fachbereich Kunst und Fotografie der Akademie der Bildenden Künste Wien) e il Dipartimento Arti Visivi dell’Istituto Europeo di Design di Roma. Gli studenti dei due dipartimenti sono stati chiamati a confrontarsi su tematiche quali cambiamento climatico\, sviluppo sostenibile e tutela dell’ambiente. In mostra gli scatti di Alessandro Albrecht\, Olga Shapovalova\, Matteo Capone ed Emilio Perillo. \nOrario: 6 maggio – 30 luglio 2021 | lun – ven | ore 10.00 – 17.00 \nCOMUNICATO STAMPA \n \n(Per attivare i sottotitoli in italiano cliccare sull’icona sul video) \nLa visita alla mostra è consentita su prenotazione e nel rispetto del distanziamento secondo il protocollo Covid-19. \nPer prenotare scrivere a prenotazione.forumaustriaco@gmail.com specificando una preferenza di data (giorno e ora della visita e una data alternativa) e indicando nome\, cognome e numero di telefono (massimo due partecipanti). La prenotazione sarà valida solo con un’e-mail di conferma da presentare all’ingresso. \n 
URL:https://www.austriacult.roma.it/evento/on-climate-change-2/
ATTACH;FMTTYPE=image/jpeg:https://www.austriacult.roma.it/wp-content/uploads/2021/04/box.jpg
END:VEVENT
END:VCALENDAR