BEGIN:VCALENDAR
VERSION:2.0
PRODID:-//Forum Austriaco di Cultura Roma - ECPv5.12.4//NONSGML v1.0//EN
CALSCALE:GREGORIAN
METHOD:PUBLISH
X-WR-CALNAME:Forum Austriaco di Cultura Roma
X-ORIGINAL-URL:https://www.austriacult.roma.it
X-WR-CALDESC:Eventi per Forum Austriaco di Cultura Roma
BEGIN:VTIMEZONE
TZID:Europe/Berlin
BEGIN:DAYLIGHT
TZOFFSETFROM:+0100
TZOFFSETTO:+0200
TZNAME:CEST
DTSTART:20230326T010000
END:DAYLIGHT
BEGIN:STANDARD
TZOFFSETFROM:+0200
TZOFFSETTO:+0100
TZNAME:CET
DTSTART:20231029T010000
END:STANDARD
END:VTIMEZONE
BEGIN:VEVENT
DTSTART;TZID=Europe/Berlin:20230825T220000
DTEND;TZID=Europe/Berlin:20230825T220000
DTSTAMP:20260420T213410
CREATED:20230630T113821Z
LAST-MODIFIED:20230822T122753Z
UID:13433-1693000800-1693000800@www.austriacult.roma.it
SUMMARY:Lucy Dreams
DESCRIPTION:David Reiterer: musicista \nPhilipp Prückl: musicista \nLucy: intelligenza artificiale rappresentata da una sfera di cristallo che fa parte del gruppo \nLucy Dreams è il trio dream pop proveniente da Vienna costituito da David Reiterer\, Philipp Prückl e Lucy. Si tratta di un’intelligenza artificiale che è stata sviluppata solo per la produzione dei loro brani e ne fa parte sia per quanto riguarda la scrittura delle canzoni sia per quanto riguarda le live performance. \nIl primo EP dei Lucy Dreams “Eveything comes in waves” (novembre 2020) e in particolare il loro brano “Know my number”\, hanno già raggiunto dei grandi successi anche a livello internazionale. Il tema principale dei loro brani riguarda la onnipresente crisi climatica e le loro canzoni vogliono ricordarci di aspirare a un futuro sostenibile e rispettoso verso l’ambiente. \nVisto il momento in cui è stato pubblicato il loro EP e il seguente periodo caratterizzato dalla pandemia il gruppo non ha avuto tante possibilità di esibirsi live. Lo spettacolo promette però di essere impressionante: loro mascherati\, vestiti in oro e con la moderazione di Lucy. \nhttps://www.lucydreams.net/live\nhttps://www.instagram.com/birranthology_extravaganza/\nBirranthology Extravaganza (@birranthology_extravaganza) | Instagram\nhttps://birranthology-extravaganza.it/ \n  \n 
URL:https://www.austriacult.roma.it/evento/musica-lucy-dreams-vienna-2/
LOCATION:Sinalunga – Birranthology Extravaganza Festival 2023\, Piazza Bartolini loc. Scrofiano
CATEGORIES:Concerto,Musica
ATTACH;FMTTYPE=image/jpeg:https://www.austriacult.roma.it/wp-content/uploads/2023/06/4.jpg
END:VEVENT
END:VCALENDAR