BEGIN:VCALENDAR
VERSION:2.0
PRODID:-//Forum Austriaco di Cultura Roma - ECPv5.12.4//NONSGML v1.0//EN
CALSCALE:GREGORIAN
METHOD:PUBLISH
X-WR-CALNAME:Forum Austriaco di Cultura Roma
X-ORIGINAL-URL:https://www.austriacult.roma.it
X-WR-CALDESC:Eventi per Forum Austriaco di Cultura Roma
BEGIN:VTIMEZONE
TZID:Europe/Berlin
BEGIN:DAYLIGHT
TZOFFSETFROM:+0100
TZOFFSETTO:+0200
TZNAME:CEST
DTSTART:20260329T010000
END:DAYLIGHT
BEGIN:STANDARD
TZOFFSETFROM:+0200
TZOFFSETTO:+0100
TZNAME:CET
DTSTART:20261025T010000
END:STANDARD
END:VTIMEZONE
BEGIN:VEVENT
DTSTART;VALUE=DATE:20260503
DTEND;VALUE=DATE:20260517
DTSTAMP:20260421T103009
CREATED:20260416T114734Z
LAST-MODIFIED:20260416T114734Z
UID:25985-1777766400-1778975999@www.austriacult.roma.it
SUMMARY:MOON | Sandra Thaler
DESCRIPTION:L’artista e giurista dell’Alta Austria Sandra Thaler porta la luna in Italia. Con la sua installazione “MOON” (parte della serie COSMIC INSPIRATION\, già esposta a Vienna)\, l’artista lancia un forte segnale artistico nel contesto de L’Aquila\, Capitale Italiana della Cultura 2026. L’opera affronta il tema del legame tra cielo e terra\, tra stasi e movimento. In una città celebre per la sua storia e la sua ricostruzione\, “MOON” funge da simbolo di luce e resilienza. Sandra Thaler coniuga la creatività dell’Alta Austria con una visione internazionale\, invitando i visitatori a cambiare prospettiva. \n  \nCenni Biografici \nSandra Thaler\, nata a Steyr\, vive e lavora a Hörsching (Austria). La sua opera spazia dalla pittura all’arte pubblica fino all’installazione. Al centro della sua ricerca vi è la riflessione sulla luce come metafora delle relazioni umane. L’installazione “MOON” funge da catalizzatore: risplende attraverso la risonanza con l’ambiente e l’osservatore – un simbolo della reciprocità che definisce il nostro tessuto sociale. Con la sua pubblicazione quadrilingue “Art of Zodiac” (Zodiac Art Collection\, 2024/2025\, edita in IT\, DE\, EN\, FR)\, crea inoltre una simbiosi tra precisione grafica e intensità cromatica emozionale. www.sandrathaler.art \n  \nInformazione evento: \nOrari di apertura: dalle 09:00 alle 18:00; nei fine settimana fino alle 20:00. \nIngresso gratuito
URL:https://www.austriacult.roma.it/evento/moon-sandra-thaler-2/
LOCATION:L’Aquila – PALAZZO DELL’EMICICLO\, Via Michele Iacobucci 4
CATEGORIES:arte contemporanea,Mostra
ATTACH;FMTTYPE=image/png:https://www.austriacult.roma.it/wp-content/uploads/2026/04/HP-Foto_Sandra-Thaler-1.png
END:VEVENT
END:VCALENDAR