BEGIN:VCALENDAR
VERSION:2.0
PRODID:-//Forum Austriaco di Cultura Roma - ECPv5.12.4//NONSGML v1.0//EN
CALSCALE:GREGORIAN
METHOD:PUBLISH
X-WR-CALNAME:Forum Austriaco di Cultura Roma
X-ORIGINAL-URL:https://www.austriacult.roma.it
X-WR-CALDESC:Eventi per Forum Austriaco di Cultura Roma
BEGIN:VTIMEZONE
TZID:Europe/Berlin
BEGIN:DAYLIGHT
TZOFFSETFROM:+0100
TZOFFSETTO:+0200
TZNAME:CEST
DTSTART:20220327T010000
END:DAYLIGHT
BEGIN:STANDARD
TZOFFSETFROM:+0200
TZOFFSETTO:+0100
TZNAME:CET
DTSTART:20221030T010000
END:STANDARD
BEGIN:DAYLIGHT
TZOFFSETFROM:+0100
TZOFFSETTO:+0200
TZNAME:CEST
DTSTART:20230326T010000
END:DAYLIGHT
BEGIN:STANDARD
TZOFFSETFROM:+0200
TZOFFSETTO:+0100
TZNAME:CET
DTSTART:20231029T010000
END:STANDARD
END:VTIMEZONE
BEGIN:VEVENT
DTSTART;VALUE=DATE:20221210
DTEND;VALUE=DATE:20230106
DTSTAMP:20260422T063338
CREATED:20221130T113218Z
LAST-MODIFIED:20230607T104947Z
UID:12693-1670630400-1672963199@www.austriacult.roma.it
SUMMARY:Monika Hartl e Elke Hubmann-Kniely
DESCRIPTION:“Christmas Art” è il titolo della rassegna espositiva curata da Anna Isopo che presenta le opere di 19 artisti internazionali selezionati\, tra cui le austriache Monika Hartl e Elke Hubmann-Kniely. Presentazione: Cinzia Folcarelli \nMonika Hartl\, nata a Grieskirchen (Austria)\, lavora è vive a Salzburg\, Austria e Padova\, Italia. 2012-2020 Membra del Consiglio direttivo dell’Associazione Professionale degli Arti\, Salzburg. 2012-2014 Master of arts\, Università Salzburg; 2009-2012 Bachelor of arts\, Università Salzburg. Collaborazioni espositive in patria e all’estero. \nElke Hubmann-Kniely\, nata nel 1962 a Graz\, studia chimica e impara diverse tecniche artistiche da artisti in patria e all’estero. Autrice de „Lass Farbe An Dich Ran! In Farbigkeit getauchte Gedanken“ (Lasciati colpire dal colore! Pensieri immersi nel colore). Mostre (collettive e personali) a partire dal 2014 in Austria\, Germania\, Italia\, Svizzera e Spagna. \n   \n(c) Elke Hubmann-Kniely \n 
URL:https://www.austriacult.roma.it/evento/monika-hartl-e-elke-hubmann-kniely/
LOCATION:Roma – Arte Borgo Gallery\, Borgo Vittorio 25
CATEGORIES:Mostra
ATTACH;FMTTYPE=image/jpeg:https://www.austriacult.roma.it/wp-content/uploads/2022/11/CHRISTMAS.jpg
END:VEVENT
END:VCALENDAR