BEGIN:VCALENDAR
VERSION:2.0
PRODID:-//Forum Austriaco di Cultura Roma - ECPv5.12.4//NONSGML v1.0//EN
CALSCALE:GREGORIAN
METHOD:PUBLISH
X-WR-CALNAME:Forum Austriaco di Cultura Roma
X-ORIGINAL-URL:https://www.austriacult.roma.it
X-WR-CALDESC:Eventi per Forum Austriaco di Cultura Roma
BEGIN:VTIMEZONE
TZID:Europe/Berlin
BEGIN:DAYLIGHT
TZOFFSETFROM:+0100
TZOFFSETTO:+0200
TZNAME:CEST
DTSTART:20200329T010000
END:DAYLIGHT
BEGIN:STANDARD
TZOFFSETFROM:+0200
TZOFFSETTO:+0100
TZNAME:CET
DTSTART:20201025T010000
END:STANDARD
END:VTIMEZONE
BEGIN:VEVENT
DTSTART;TZID=Europe/Berlin:20200412T143000
DTEND;TZID=Europe/Berlin:20200412T143000
DTSTAMP:20260421T232747
CREATED:20200408T074519Z
LAST-MODIFIED:20200410T102507Z
UID:8172-1586701800-1586701800@www.austriacult.roma.it
SUMMARY:MAGDA AMARA\, pianoforte | recital
DESCRIPTION:Magda Amara (pianoforte) – Opere di W.A. Mozart\, F. Chopin e S. Rachmaninov\nPer poter prendere parte al concerto basta contattarci via e-mail all’indirizzo ROM-KF@bmeia.gv.at entro le ore 14.00 di venerdì 10 aprile 2020\, indicando nell’oggetto “KLASSIK + data del concerto”. In risposta riceverete la password da poter inserire su www.konzertsaal.at per aver accesso gratuito al concerto in oggetto. \n 
URL:https://www.austriacult.roma.it/evento/magda-amara-pianoforte-recital/
LOCATION:#AustriaKulturInternational #AustriaKulturDigital
CATEGORIES:Musica
ATTACH;FMTTYPE=image/jpeg:https://www.austriacult.roma.it/wp-content/uploads/2020/04/csm_Amara__Magda_3__c_Andrej_Grilc_1475629757.jpg
END:VEVENT
END:VCALENDAR