BEGIN:VCALENDAR
VERSION:2.0
PRODID:-//Forum Austriaco di Cultura Roma - ECPv5.12.4//NONSGML v1.0//EN
CALSCALE:GREGORIAN
METHOD:PUBLISH
X-WR-CALNAME:Forum Austriaco di Cultura Roma
X-ORIGINAL-URL:https://www.austriacult.roma.it
X-WR-CALDESC:Eventi per Forum Austriaco di Cultura Roma
BEGIN:VTIMEZONE
TZID:Europe/Berlin
BEGIN:DAYLIGHT
TZOFFSETFROM:+0100
TZOFFSETTO:+0200
TZNAME:CEST
DTSTART:20250330T010000
END:DAYLIGHT
BEGIN:STANDARD
TZOFFSETFROM:+0200
TZOFFSETTO:+0100
TZNAME:CET
DTSTART:20251026T010000
END:STANDARD
END:VTIMEZONE
BEGIN:VEVENT
DTSTART;TZID=Europe/Berlin:20251217T193000
DTEND;TZID=Europe/Berlin:20251217T193000
DTSTAMP:20260421T103850
CREATED:20251209T115944Z
LAST-MODIFIED:20251209T120630Z
UID:25025-1765999800-1765999800@www.austriacult.roma.it
SUMMARY:Lorena Milina Marinković (violino) e Nadir Hošić (pianoforte)
DESCRIPTION:L’Ambasciata della Repubblica di Croazia e il Forum Austriaco di Cultura invitano al concerto di Lorena Milina Marinković (violino) e Nadir Hošić (pianoforte). \n  \nProgramma \nFritz Kreisler (1875-1962) – Schön Rosmarin\, Liebesleid \nMaurice Ravel (1875-1937) – Sonata postuma \nDora Pejačević (1885-1923) – Canzonetta & Romanza \nNiccolò Paganini (1782-1840) – Capriccio n. 16 \nAdalbert Marković (1929-2010) – Studio per violino solo n. 3\, \nWolfgang Amadeus Mozart (1756-1791) – Concerto per violino in sol maggiore\, I movimento \n  \n  \nCenni biografici \nLORENA MILINA MARINKOVIĆ (violino\, 1990) ha iniziato la sua formazione musicale all’età di otto anni nella natia Korčula\, nella classe del prof. Boris Krasovac. Ha proseguito gli studi di violino presso l’Accademia di Musica di Zagabria nella classe del prof. Borivoj Martinić-Jerčić e del prof. Martin Draušnik\, mentre una parte di studi master l’ha frequentata presso la Staatliche Hochschule für Musik und Darstellende Kunst di Stoccarda\, nella classe del prof. Kolja Lessing. Come vincitrice di una borsa di studio del governo francese\, ha fatto due corsi specialistici biennali a Parigi\, presso il prestigioso conservatorio La Schola Cantorum\, nella classe della prof.ssa Violeta Smailović-Huart. Attualmente frequenta il dottorato presso l’Accademia di Musica dell’Università di Sarajevo. Dal 2015 si dedica al lavoro pedagogico\, e i suoi studenti vincono regolarmente i primi premi. \nPartecipa a numerosi festival (Sonemus Fest Sarajevo\, Festival Internazionale Muzika na žici\, Majske muzičke svečanosti Sarajevo\, Muzički Biennale Zagreb\, Dubrovnik Summer Festival\, Dubrovnik Late Summer Festival\, Splitsko ljeto\, Osorske glazbene večeri e molti altri) ed è ideatrice e direttrice artistica del Korčula Fermata Festival. Dal 2019 insegna presso l’Accademia di Musica dell’Università di Sarajevo come professore associato di violino. \n  \nNADIR HOŠIĆ (pianoforte\, 1997) si è laureato in pianoforte all’Accademia di Musica dell’Università di Sarajevo nella classe del prof. Dragan Opančić\, e una parte di master l’ha frequentata all’Accademia di Musica dell’Università di Zagabria nella classe del professor Ruben Dalibaltayan. È vincitore di numerosi premi nazionali e internazionali. Attualmente insegna pianoforte alla Scuola di Musica di Ljubuški e lavora come assistente senior al Corso di Musica della FPMOZ dell’Università di Mostar.
URL:https://www.austriacult.roma.it/evento/lorena-milina-marinkovic-violino-e-nadir-hosic-pianoforte/
LOCATION:Roma – FORUM AUSTRIACO DI CULTURA\, Viale Bruno Buozzi 113
CATEGORIES:Concerto
ATTACH;FMTTYPE=image/jpeg:https://www.austriacult.roma.it/wp-content/uploads/2025/12/HP-Lorena-Milina-Marinkovic-©-Marko-Sitar.jpg
END:VEVENT
END:VCALENDAR