BEGIN:VCALENDAR
VERSION:2.0
PRODID:-//Forum Austriaco di Cultura Roma - ECPv5.12.4//NONSGML v1.0//EN
CALSCALE:GREGORIAN
METHOD:PUBLISH
X-WR-CALNAME:Forum Austriaco di Cultura Roma
X-ORIGINAL-URL:https://www.austriacult.roma.it
X-WR-CALDESC:Eventi per Forum Austriaco di Cultura Roma
BEGIN:VTIMEZONE
TZID:Europe/Berlin
BEGIN:DAYLIGHT
TZOFFSETFROM:+0100
TZOFFSETTO:+0200
TZNAME:CEST
DTSTART:20220327T010000
END:DAYLIGHT
BEGIN:STANDARD
TZOFFSETFROM:+0200
TZOFFSETTO:+0100
TZNAME:CET
DTSTART:20221030T010000
END:STANDARD
END:VTIMEZONE
BEGIN:VEVENT
DTSTART;TZID=Europe/Berlin:20221118T170000
DTEND;TZID=Europe/Berlin:20221118T170000
DTSTAMP:20260421T211113
CREATED:20221028T130636Z
LAST-MODIFIED:20221102T124408Z
UID:12529-1668790800-1668790800@www.austriacult.roma.it
SUMMARY:LISTENING OUT LOUD: STORYTELLING:EUROPE! | con Fariba Mosleh e Natalia Hecht
DESCRIPTION:La curatrice\, Fariba Mosleh\, e la co-curatrice partecipativa\, Natalia Hecht\, invitano alla sessione Listening Out Loud – StoryTelling:Europe!\, per riflettere su questioni chiave del presente\, del passato e del futuro dell’Europa da una prospettiva transgenerazionale – sulla base dei progetti artistici “StoryWalks” e “A’Wiener Karavansarai”\, sviluppati quest’anno con le artiste Melika Ramić e Asma Aiad\, insieme a student* e protagonist* presso il Brunnenmarkt di Vienna. \nwww.brunnenpassage.at \nWorkshop di Natalia Hecht e Fariba Mosleh: Facebook \nRegistrazione al workshop: https://www.eventbrite.com/e/listening-and-discussing-the-voices-sounds-and-images-of-europe-tickets-435627683127?fbclid=IwAR21FmfNSlxws0fXcYdeqdRkQwPp8L9NQpHYWwa6B7AxsGizkchN7oYS78Q \n  \n  \n  \n  \n  \n  \n 
URL:https://www.austriacult.roma.it/evento/listening-out-loud/
LOCATION:Roma – Bibliotheca Hertziana\, Via Gregoriana\, 28
ATTACH;FMTTYPE=image/jpeg:https://www.austriacult.roma.it/wp-content/uploads/2022/10/Banners-FB-events_11.jpg
END:VEVENT
END:VCALENDAR