BEGIN:VCALENDAR
VERSION:2.0
PRODID:-//Forum Austriaco di Cultura Roma - ECPv5.12.4//NONSGML v1.0//EN
CALSCALE:GREGORIAN
METHOD:PUBLISH
X-WR-CALNAME:Forum Austriaco di Cultura Roma
X-ORIGINAL-URL:https://www.austriacult.roma.it
X-WR-CALDESC:Eventi per Forum Austriaco di Cultura Roma
BEGIN:VTIMEZONE
TZID:Europe/Berlin
BEGIN:DAYLIGHT
TZOFFSETFROM:+0100
TZOFFSETTO:+0200
TZNAME:CEST
DTSTART:20240331T010000
END:DAYLIGHT
BEGIN:STANDARD
TZOFFSETFROM:+0200
TZOFFSETTO:+0100
TZNAME:CET
DTSTART:20241027T010000
END:STANDARD
END:VTIMEZONE
BEGIN:VEVENT
DTSTART;TZID=Europe/Berlin:20241128T170000
DTEND;TZID=Europe/Berlin:20241128T170000
DTSTAMP:20260421T181141
CREATED:20241028T091145Z
LAST-MODIFIED:20241120T135006Z
UID:22172-1732813200-1732813200@www.austriacult.roma.it
SUMMARY:KAFKA E I DIGIUNI DEL SIGNOR K | KAFKA 2024
DESCRIPTION:Una lettura performativa del racconto Un Digiunatore dell’autore ceco Franz Kafka in occasione del centenario della morte di Kafka espressa attraverso parole\, musica e immagini. \nUn Digiunatore del 1922 analizza con crudele autoironia il significato e il valore dell’arte e dell’esistenza artistica\, descrive la prestazione artistica e l’effetto della rispettiva “arte”. Il narratore\, invece\, ne sottolinea la grottesca disparità tra l’effetto fatale e l’inutilità della causa: “L’Artista” nel morire di fame prima che nella morte ammette che la sua produzione non era arte: moriva di fame perché non riusciva a trovare cibo di suo gusto. Come in tutta l’opera di Kafka\, questo racconto esprime chiaramente la scioccante possibilità che il centro di ogni azione sia vuoto\, nel senso che le persone assumono i ruoli di superiori e subordinati\, giudici e imputati\, o forse artisti in nome di una legge inesistente o potere. Il narratore induce così il pensiero terrificante che il centro onnipotente esiste solo nella fantasia dei personaggi. \nLa particolare intensità del racconto è sottolineata dalla lettura performativa di Pino Censi e dal violoncello di Graziano Nori e dalla proiezione di quadri del pittore Andrea Louis Ballardini\, che esaltano il significato del racconto e ispirano il racconto immaginazione. Questo evento artistico potrà essere seguito dal pubblico negli spazi dell’Ambasciata della Repubblica Ceca a Roma\, nonché dal pubblico online delle università\, biblioteche e altri istituti.  \nPOSTI ESAURITI!!  L’evento verrà trasmesso in diretta sulle pagine FB del Centro Ceco: Centro Ceco Roma //  Centro Ceco Milano \nPino Censi si è diplomato all’Accademia Nazionale d’Arte drammatica “Silvio d’Amico”\, al lavoro da scritturato presso compagnie e teatri stabili nazionali\, alterna creazioni di progetti indipendenti. Collaborazioni con Rai Radio 3 e Radio Vaticana. \nAndrea Louis Ballardini è pittore\, restauratore e consulente d’arte bolognese\, nato a Praga\, dove ha studiato pittura e restauro presso la locale Accademia di Belle Arti. Quest’anno ha collaborato alla realizzazione del grande progetto di conferenze\, mostre e spettacoli teatrali KAFKA 100 BOLOGNA. \nGraziano Nori ha studiato al Conservatorio S. Cecilia di Roma\, dove si è diplomato nel 1986. Si perfezionamento all’Accademia Musicale Chigiana di Siena e a Parigi con Alain Meunier. E’ titolare della cattedra di violoncello presso il Liceo Musicale Statale Giordano Bruno di Roma. \n 
URL:https://www.austriacult.roma.it/evento/kafka-e-i-digiuni-del-signor-k-kafka-2024/
LOCATION:Roma – AMBASCIATA DELLA REPUBBLICA CECA A ROMA\, Via dei Gracchi\, 322
CATEGORIES:Letteratura,Programma
ATTACH;FMTTYPE=image/png:https://www.austriacult.roma.it/wp-content/uploads/2024/10/franz-kafka_c_andrea-ballardini-formatkey-png-w1022-HP.png
END:VEVENT
END:VCALENDAR