BEGIN:VCALENDAR
VERSION:2.0
PRODID:-//Forum Austriaco di Cultura Roma - ECPv5.12.4//NONSGML v1.0//EN
CALSCALE:GREGORIAN
METHOD:PUBLISH
X-WR-CALNAME:Forum Austriaco di Cultura Roma
X-ORIGINAL-URL:https://www.austriacult.roma.it
X-WR-CALDESC:Eventi per Forum Austriaco di Cultura Roma
BEGIN:VTIMEZONE
TZID:Europe/Berlin
BEGIN:DAYLIGHT
TZOFFSETFROM:+0100
TZOFFSETTO:+0200
TZNAME:CEST
DTSTART:20190331T010000
END:DAYLIGHT
BEGIN:STANDARD
TZOFFSETFROM:+0200
TZOFFSETTO:+0100
TZNAME:CET
DTSTART:20191027T010000
END:STANDARD
END:VTIMEZONE
BEGIN:VEVENT
DTSTART;VALUE=DATE:20190426
DTEND;VALUE=DATE:20190429
DTSTAMP:20260423T014155
CREATED:20190418T073915Z
LAST-MODIFIED:20190426T133159Z
UID:6154-1556236800-1556495999@www.austriacult.roma.it
SUMMARY:ITALIAN STREET PHOTO FESTIVAL
DESCRIPTION:Fotografia \nSono tre i fotografi austriaci invitati a partecipare alla seconda edizione del festival internazionale di street photography in Italia: Enrico Markus Essl con la sua serie “A Wider View”\, Michael Goldrei con l’immagine “Feels Like We Only Go Backwards” e Robert Rutöd con uno scatto dalla pluripremiata serie „Right Time Right Place”. \nIl progetto è volto a promuovere e mostrare la fotografia di strada attraverso alcuni street photographers attualmente influenti. Professionisti e appassionati\, uniti per vivere e scoprire l’identità contemporanea della street photography\, partecipando a conferenze\, workshops\, photowalks\, mostre\, concorsi e molto altro. \nMaggiori informazioni su : www.italianstreetphotofestival.com
URL:https://www.austriacult.roma.it/evento/italian-street-photo-festival/
LOCATION:Roma – Officine Fotografiche\, Via Giuseppe Libetta 1
CATEGORIES:Mostra
ATTACH;FMTTYPE=image/jpeg:https://www.austriacult.roma.it/wp-content/uploads/2019/04/Michael-Goldrei-Feels-Like-We-Only-Go-Backwards.jpg
END:VEVENT
END:VCALENDAR