BEGIN:VCALENDAR
VERSION:2.0
PRODID:-//Forum Austriaco di Cultura Roma - ECPv5.12.4//NONSGML v1.0//EN
CALSCALE:GREGORIAN
METHOD:PUBLISH
X-WR-CALNAME:Forum Austriaco di Cultura Roma
X-ORIGINAL-URL:https://www.austriacult.roma.it
X-WR-CALDESC:Eventi per Forum Austriaco di Cultura Roma
BEGIN:VTIMEZONE
TZID:Europe/Berlin
BEGIN:DAYLIGHT
TZOFFSETFROM:+0100
TZOFFSETTO:+0200
TZNAME:CEST
DTSTART:20230326T010000
END:DAYLIGHT
BEGIN:STANDARD
TZOFFSETFROM:+0200
TZOFFSETTO:+0100
TZNAME:CET
DTSTART:20231029T010000
END:STANDARD
END:VTIMEZONE
BEGIN:VEVENT
DTSTART;VALUE=DATE:20230730
DTEND;VALUE=DATE:20230801
DTSTAMP:20260420T213544
CREATED:20230707T144913Z
LAST-MODIFIED:20230707T145445Z
UID:13571-1690675200-1690847999@www.austriacult.roma.it
SUMMARY:“I want more logic than the world can handle\, so I prefer to live where it’s lacking”. Operetta – an assignment
DESCRIPTION:Il congresso internazionale dell’Academia del teatro musicale europeo\, con sede a Vienna (https://musiktheater-akademie.eu) avrà luogo il 30 e 31 luglio a Martina Franca in cooperazione con il Festival della Valle d’Itria e sarà svolto in lingua inglese. \nL’Accademia dedica il congresso all’operetta\, un genere del teatro musicale che è stato riscoperto: registri e i direttori d’orchestra ritrovano elementi nuovi nei brani così come nelle stesse opere. \nQuesti gli argomenti principali del congresso: l’attuale rilevanza e le possibilità di innovazione del genere\, lo stato della formazione specifica\, le sfide per gli interpreti e i direttori e lo stato della ricezione a livello internazionale. In diverse sessioni e pannelli di lavoro illustri relatori discuteranno dell’operetta in un’ottica attuale\, sia dal punto di vista scientifico che da quello pratico. \nProgramma \nPer maggiori info: https://www.festivaldellavalleditria.it \n  \n 
URL:https://www.austriacult.roma.it/evento/i-want-more-logic-than-the-world-can-handle-so-i-prefer-to-live-where-its-lacking-operetta-an-assignment/
LOCATION:Martina Franca – Fondazione Paolo Grassi\, Via Metastasio\, 20
CATEGORIES:Convegno,Opera,Programma
ATTACH;FMTTYPE=image/jpeg:https://www.austriacult.roma.it/wp-content/uploads/2023/07/Palazzo_Ducale_Martina_Franca_cutout1-539x303-1.jpg
END:VEVENT
END:VCALENDAR