BEGIN:VCALENDAR
VERSION:2.0
PRODID:-//Forum Austriaco di Cultura Roma - ECPv5.12.4//NONSGML v1.0//EN
CALSCALE:GREGORIAN
METHOD:PUBLISH
X-WR-CALNAME:Forum Austriaco di Cultura Roma
X-ORIGINAL-URL:https://www.austriacult.roma.it
X-WR-CALDESC:Eventi per Forum Austriaco di Cultura Roma
BEGIN:VTIMEZONE
TZID:Europe/Berlin
BEGIN:DAYLIGHT
TZOFFSETFROM:+0100
TZOFFSETTO:+0200
TZNAME:CEST
DTSTART:20230326T010000
END:DAYLIGHT
BEGIN:STANDARD
TZOFFSETFROM:+0200
TZOFFSETTO:+0100
TZNAME:CET
DTSTART:20231029T010000
END:STANDARD
END:VTIMEZONE
BEGIN:VEVENT
DTSTART;VALUE=DATE:20230612
DTEND;VALUE=DATE:20230619
DTSTAMP:20260421T102211
CREATED:20230525T131801Z
LAST-MODIFIED:20230525T140443Z
UID:13215-1686528000-1687132799@www.austriacult.roma.it
SUMMARY:I TRAMONTI DI TINIA | focus Austria
DESCRIPTION:I “Tramonti di Tinia” è un festival di musica da camera che si svolge a metà giugno in diversi luoghi della provincia di Viterbo. Quest’anno il programma propone brani di grandi musicisti viennesi dell’800 e 900 quali: Franz Schubert\, Arnold Schönberg\, Joseph Haydn\, Johannes Brahms\, Erich Wolfgang Korngold e Gustav Mahler. \nPer informazioni dettagliate sui diversi concerti:\nProgramma di sala \nLocandina \n 
URL:https://www.austriacult.roma.it/evento/i-tramonti-di-tinia-focus-austria/
LOCATION:Bassano Romano – Chiesa di S. Maria Assunta; Sutri – Azienda Agricola “Spada”
ATTACH;FMTTYPE=image/jpeg:https://www.austriacult.roma.it/wp-content/uploads/2023/05/Foto-2.jpg
END:VEVENT
END:VCALENDAR