BEGIN:VCALENDAR
VERSION:2.0
PRODID:-//Forum Austriaco di Cultura Roma - ECPv5.12.4//NONSGML v1.0//EN
CALSCALE:GREGORIAN
METHOD:PUBLISH
X-WR-CALNAME:Forum Austriaco di Cultura Roma
X-ORIGINAL-URL:https://www.austriacult.roma.it
X-WR-CALDESC:Eventi per Forum Austriaco di Cultura Roma
BEGIN:VTIMEZONE
TZID:Europe/Berlin
BEGIN:DAYLIGHT
TZOFFSETFROM:+0100
TZOFFSETTO:+0200
TZNAME:CEST
DTSTART:20230326T010000
END:DAYLIGHT
BEGIN:STANDARD
TZOFFSETFROM:+0200
TZOFFSETTO:+0100
TZNAME:CET
DTSTART:20231029T010000
END:STANDARD
END:VTIMEZONE
BEGIN:VEVENT
DTSTART;VALUE=DATE:20230327
DTEND;VALUE=DATE:20230331
DTSTAMP:20260422T050648
CREATED:20230321T112150Z
LAST-MODIFIED:20230321T145934Z
UID:12967-1679875200-1680220799@www.austriacult.roma.it
SUMMARY:GIORNATE IBLEE DELLA GERMANISTICA X | Wolfgang Müller-Funk
DESCRIPTION:Sono tre gli incontri con Wolfgang Müller-Funk (Università di Vienna) all’interno delle “Giornate Iblee della Germanistica X”: \nSeminario-Workshop\, Letteratura tedesca contemporanea\n27 marzo\, ore 18.00\n28 marzo\, ore 10.00\nChristoph Ransmayr\, Lektüre von Kurzprosatexten aus Atlas eines ängstlichen Mannes \nConferenza\, Cultura e letteratura\n30 marzo\, ore 18.00  In presenza e in collegamento online su Teams \nRobert Menasse: Crisi e commedia. Dal mito asburgico all’Unione Europea\n \nlocandina \nBiografia Wolfgang Müller-Funk
URL:https://www.austriacult.roma.it/evento/giornate-iblee-delle-germanistica-wolfgang-muller-funk/
LOCATION:Ragusa – Università di Catania\, Ex-Convento di Santa Teresa – Ragusa Ibla
ATTACH;FMTTYPE=image/png:https://www.austriacult.roma.it/wp-content/uploads/2023/03/giornateiblee-1.png
END:VEVENT
END:VCALENDAR