BEGIN:VCALENDAR
VERSION:2.0
PRODID:-//Forum Austriaco di Cultura Roma - ECPv5.12.4//NONSGML v1.0//EN
CALSCALE:GREGORIAN
METHOD:PUBLISH
X-WR-CALNAME:Forum Austriaco di Cultura Roma
X-ORIGINAL-URL:https://www.austriacult.roma.it
X-WR-CALDESC:Eventi per Forum Austriaco di Cultura Roma
BEGIN:VTIMEZONE
TZID:Europe/Berlin
BEGIN:DAYLIGHT
TZOFFSETFROM:+0100
TZOFFSETTO:+0200
TZNAME:CEST
DTSTART:20150329T010000
END:DAYLIGHT
BEGIN:STANDARD
TZOFFSETFROM:+0200
TZOFFSETTO:+0100
TZNAME:CET
DTSTART:20151025T010000
END:STANDARD
END:VTIMEZONE
BEGIN:VEVENT
DTSTART;TZID=Europe/Berlin:20150321T200000
DTEND;TZID=Europe/Berlin:20150321T213000
DTSTAMP:20260420T102220
CREATED:20150126T114945Z
LAST-MODIFIED:20150318T133504Z
UID:2275-1426968000-1426973400@www.austriacult.roma.it
SUMMARY:GIORNATA MONDIALE DELLA POESIA: L'Europa in versi - Per l'Austria - Alexander Peer
DESCRIPTION:Foto © Wolfgang D. Muik – www.muwo.at \nSono quest’anno quattordici\, i poeti riuniti dall’EUNIC sabato 21 marzo in occasione della Giornata Mondiale della Poesia a Palazzo Blumenstihl\, sede dell’Istituto Polacco Roma. \nQuattordici\, quindi\, i paesi che hanno voluto partecipare alla manifestazione sotto il patrocinio dell’UNESCO: Austria\, Bulgaria\, Croazia\, Germania\, Italia\, Polonia\, Portogallo\, Romania\, Slovacchia\, Slovenia\, Spagna\, Svezia\, Svizzera\, Ungheria.\n \nPoesie che ci porteranno in viaggio attraverso le diverse nazioni europee. L’opportunità di poter ascoltare i versi in lingua originale\, recitati dagli autori stessi\, con le giuste pause e intonazioni. Una melodia cui si accorderà l’accompagnamento del pianista Michele Sganga\, con intermezzi musicali ispirati dalle poesie. A moderare la serata\, la dott.ssa Maria Ida Gaeta\, direttrice della Casa delle Letterature di Roma\, che presenterà poeti e liriche.\n \nIl Forum Austriaco di Cultura Roma partecipa al progetto con il poeta austriaco Alexander Peer. Noto sul mercato letterario tedesco per i propri romanzi\, Peer scrive anche poesie\, che in Italia ha presentato in un reading a Firenze lo scorso autunno.\n \nAlexander Peer vive e lavora a Vienna. Fra i suoi libri di maggior successo si ricordano: „Bis dass der Tod uns meidet“ (Limbus 2013) „Land unter ihnen“ (Limbus 2011) „Ostseeatem“ (Wieser Verlag 2008) e „Herr\, erbarme Dich meiner!“ (Edition Art & Science 2007)\, sullo scrittore Leo Perutz.\n \nNato nel 1971 a Salisburgo\, studia Germanistica\, Filosofia e Scienze della Comunicazione. Molteplici le pubblicazioni in antologie e riviste letterarie. Scrive regolarmente contributi e reportage per riviste e giornali nazionali come Der Standard\, Die Presse\, profil\, Wiener Zeitung ed è autore di trasmissioni per la radio di stato austriaca. È membro di circoli letterari come il P.E.N.- Club Austria\, Podium e la Salzburger AutorInnengruppe. Attivo come lettore\, insegna e organizza laboratori di scrittura. Numerose le presentazioni\, come anche premi e riconoscimenti.\n \nwww.peerfact.at\n \n\n \nOrganizzazione & Info: \nIstituto Polacco di Roma\nVia Vittoria Colonna 1\, 00193 Roma\nTel.: +39 06 36000723\nwww.istitutopolacco.it  \n \nQui il comunicato stampa della manifestazione http://ec.europa.eu/italy/news/2015/20150316_giornata_poesia_it.htm\n \nQui l’evento su facebook https://www.facebook.com/events/1573246129625778/
URL:https://www.austriacult.roma.it/evento/giornata-della-poesia-reading-alexander-peer/
LOCATION:Istituto Polacco\, Via Vittoria Colonna 1\, Roma\, 00193\, Italia
CATEGORIES:Letteratura
ATTACH;FMTTYPE=image/png:https://www.austriacult.roma.it/wp-content/uploads/2015/01/foto-wolfgang-d-muik-www-muwo-at.png
END:VEVENT
END:VCALENDAR