BEGIN:VCALENDAR
VERSION:2.0
PRODID:-//Forum Austriaco di Cultura Roma - ECPv5.12.4//NONSGML v1.0//EN
CALSCALE:GREGORIAN
METHOD:PUBLISH
X-WR-CALNAME:Forum Austriaco di Cultura Roma
X-ORIGINAL-URL:https://www.austriacult.roma.it
X-WR-CALDESC:Eventi per Forum Austriaco di Cultura Roma
BEGIN:VTIMEZONE
TZID:Europe/Berlin
BEGIN:DAYLIGHT
TZOFFSETFROM:+0100
TZOFFSETTO:+0200
TZNAME:CEST
DTSTART:20210328T010000
END:DAYLIGHT
BEGIN:STANDARD
TZOFFSETFROM:+0200
TZOFFSETTO:+0100
TZNAME:CET
DTSTART:20211031T010000
END:STANDARD
END:VTIMEZONE
BEGIN:VEVENT
DTSTART;TZID=Europe/Berlin:20211006T180000
DTEND;TZID=Europe/Berlin:20211006T180000
DTSTAMP:20260421T221114
CREATED:20210923T135421Z
LAST-MODIFIED:20211004T072617Z
UID:10917-1633543200-1633543200@www.austriacult.roma.it
SUMMARY:FORUM PER IL FUTURO
DESCRIPTION:Nel 2050 due terzi della popolazione mondiale vivrà nelle città; circa 30 anni fa era il contrario. Quale sarà il futuro delle zone rurali\, di quali esempi e concetti politici disponiamo contro esodo dalle zone rurali\, sopratutto dei giovani creativi\, chi produrrà il cibo per 10 miliardi di persone e che impatto avrà sulla natura? Il tema dello sviluppo rurale è una sfida globale.  \n Nell’ambito della serie di incontri FORUM PER IL FUTURO\, esperti di organizzazioni internazionali\, dell’Austria e dell’Italia discuteranno queste tematiche e presenteranno le loro idee e buone pratiche.  \nProgramma: \n\nDominik R. Heinrich – World Food Programme – Director\, Innovation & Knowledge Management\n\nKeynote\n\n\nNatascha Unger – The Schwarzenegger Climate Initiative\n\nUna sitauzione favorevole per tutti: azione per il clima e sviluppo rurale\n\n\nRobert Pichler – Ministero federale austriaco dell’agricoltura\, delle regioni e del turismo\n\nStrategie per le aree rurali – esempi dall’Austria\n\n\nDaniele Sinibaldi – Vicesindaco di Rieti (Lazio)\n\nPresentazione dell’iniziativa Rieti Smart Village\n\n\nMartin Hollinetz\n\nPresentazione dell’iniziativa Otelo come contributo alla riduzione dello spopolamento rurale\n\n\nGalileo Lorenzo Sciarretta – Delegato del Presidente della Regione Lazio alle politiche giovanili +\nPierluigi Bianchini – Portavoce del progetto Ostello Colle Mordani\n\nPresentazione dell’iniziativa Itinerario Giovani | Spazi e Ostelli\n\n\nDiscussione aperta al pubblico\n\nL’incontro si svolge in collaborazione con la Rappresentanza permanente della Repubblica d’Austria presso la FAO & WFP. \nMODALITÀ DI ACCESSO\nPer accedere è necessario esibire la Certificazione verde COVID-19 (Green Pass\, in formato digitale o cartaceo) o presentare il referto negativo di un tampone antigienico o molecolare effettuato nelle 48 ore precedenti\, insieme a un documento di riconoscimento valido. Le disposizioni non si applicano ai bambini di età inferiore ai 12 anni e ai soggetti con certificazione medica specifica. All’interno obbligo di indossare la mascherina e distanziamento interpersonale di almeno 1 metro. \n 
URL:https://www.austriacult.roma.it/evento/forum-per-il-futuro/
LOCATION:Roma – Forum Austriaco di Cultura\, Viale Bruno Buozzi 113
ATTACH;FMTTYPE=image/jpeg:https://www.austriacult.roma.it/wp-content/uploads/2021/09/Coverphoto5.jpg
END:VEVENT
END:VCALENDAR