BEGIN:VCALENDAR
VERSION:2.0
PRODID:-//Forum Austriaco di Cultura Roma - ECPv5.12.4//NONSGML v1.0//EN
CALSCALE:GREGORIAN
METHOD:PUBLISH
X-WR-CALNAME:Forum Austriaco di Cultura Roma
X-ORIGINAL-URL:https://www.austriacult.roma.it
X-WR-CALDESC:Eventi per Forum Austriaco di Cultura Roma
BEGIN:VTIMEZONE
TZID:Europe/Berlin
BEGIN:DAYLIGHT
TZOFFSETFROM:+0100
TZOFFSETTO:+0200
TZNAME:CEST
DTSTART:20150329T010000
END:DAYLIGHT
BEGIN:STANDARD
TZOFFSETFROM:+0200
TZOFFSETTO:+0100
TZNAME:CET
DTSTART:20151025T010000
END:STANDARD
END:VTIMEZONE
BEGIN:VEVENT
DTSTART;TZID=Europe/Berlin:20151007T200000
DTEND;TZID=Europe/Berlin:20151007T210000
DTSTAMP:20260420T174148
CREATED:20151001T131710Z
LAST-MODIFIED:20151007T085255Z
UID:2872-1444248000-1444251600@www.austriacult.roma.it
SUMMARY:Film: Le donne del congresso di Vienna
DESCRIPTION:Le donne del congresso di Vienna di Monika Czernin\, è una docufiction sulle figure femminili di rilievo nel Congresso di Vienna. Una produzione realizzata da Makido Film in collaborazione con la TV Nazionale austriaca ORF\, ZDF/ARTE\, Austrian Television Fund\, Vienna Film Fund e bm:ukk\, realizzata in occasione del bicentenario del Congresso e andata in onda sul canale europeo Arte. Il documentario tratta l’affascinante tematica della posizione della donna in politica attraverso il ruolo di tre influenti aristocratiche. Grazie alla coinvolgente struttura narrativa il film è capace di restituirci l’atmosfera del tempo\, raccontandoci come la politica del tempo si svolgesse non solo intorno ai tavoli delle trattative\, ma anche e soprattutto ai ricevimenti\, ai balli e alle feste organizzate dall’alta nobiltà\, occasioni in cui le quattro protagoniste del documentario tessevano le proprie fila e influenzavano i politici nelle loro decisioni con discrezione e astuzia. \nIntroducono la pellicola il direttore dell’Istituto Storico Austriaco\, Andreas Gottsmann\, e la regista Monika Czernin. \nMonika Czernin nasce a Klagenfurt nel 1965 e studia pedagogia\, scienze politiche\, filosofia e scienze della comunicazione a Vienna. Agli impieghi per l’emittente nazionale radiofonica e televisiva austriaca\, segue l’ingaggio come redattrice per il quotidiano austriaco “Presse”\, dove cura la rubrica artistica settimanale “Atelier”. Dal 1996 lavora come autrice e regista.
URL:https://www.austriacult.roma.it/evento/film-le-donne-del-congresso-di-vienna/
LOCATION:Roma – Forum Austriaco di Cultura\, Viale Bruno Buozzi 113\, 00197
CATEGORIES:Programma
ATTACH;FMTTYPE=image/jpeg:https://www.austriacult.roma.it/wp-content/uploads/2015/10/maetressen.jpg
ORGANIZER;CN="Forum%20Austriaco%20di%20Cultura%20Roma":MAILTO:rom-kf@bmeia.gv.at
END:VEVENT
END:VCALENDAR