BEGIN:VCALENDAR
VERSION:2.0
PRODID:-//Forum Austriaco di Cultura Roma - ECPv5.12.4//NONSGML v1.0//EN
CALSCALE:GREGORIAN
METHOD:PUBLISH
X-WR-CALNAME:Forum Austriaco di Cultura Roma
X-ORIGINAL-URL:https://www.austriacult.roma.it
X-WR-CALDESC:Eventi per Forum Austriaco di Cultura Roma
BEGIN:VTIMEZONE
TZID:Europe/Berlin
BEGIN:DAYLIGHT
TZOFFSETFROM:+0100
TZOFFSETTO:+0200
TZNAME:CEST
DTSTART:20210328T010000
END:DAYLIGHT
BEGIN:STANDARD
TZOFFSETFROM:+0200
TZOFFSETTO:+0100
TZNAME:CET
DTSTART:20211031T010000
END:STANDARD
END:VTIMEZONE
BEGIN:VEVENT
DTSTART;VALUE=DATE:20210821
DTEND;VALUE=DATE:20210829
DTSTAMP:20260421T135410
CREATED:20210629T113855Z
LAST-MODIFIED:20210705T095627Z
UID:10678-1629504000-1630195199@www.austriacult.roma.it
SUMMARY:FESTA DELLA MUSICA DI ACCUMOLI
DESCRIPTION:Su iniziativa dell’Università del Danubio di Krems\, è stata fondata ACCADEMIA VICINO\, un’accademia internazionale per musicisti orchestrali nell’ambito di un programma di ricostruzione per Accumoli e il suo territorio\, fortemente colpito dai terremoti del 2016 e del 2017. L’orchestra dell’Accademia\, insieme ai musicisti della Filarmonica di Vienna e agli ensemble di musica locale\, eseguirà una serie di concerti ad Accumoli e dintorni. Il viaggio ci condurrà attraverso il mondo musicale da Wolfgang Amadeus Mozart\, Johann Strauss il re del valzer a Ennio Morricone. \nper il programma completo: Festa della Musica di Accumoli 2021 | Accademia Vicino \nper informazioni sull’Accademia: https://www.accademiavicino.eu/ \n 
URL:https://www.austriacult.roma.it/evento/festa-della-musica-di-accumoli/
LOCATION:Accumoli – luoghi diversi
CATEGORIES:Musica
ATTACH;FMTTYPE=image/jpeg:https://www.austriacult.roma.it/wp-content/uploads/2021/06/accumoli.jpg
END:VEVENT
END:VCALENDAR