BEGIN:VCALENDAR
VERSION:2.0
PRODID:-//Forum Austriaco di Cultura Roma - ECPv5.12.4//NONSGML v1.0//EN
CALSCALE:GREGORIAN
METHOD:PUBLISH
X-WR-CALNAME:Forum Austriaco di Cultura Roma
X-ORIGINAL-URL:https://www.austriacult.roma.it
X-WR-CALDESC:Eventi per Forum Austriaco di Cultura Roma
BEGIN:VTIMEZONE
TZID:Europe/Berlin
BEGIN:DAYLIGHT
TZOFFSETFROM:+0100
TZOFFSETTO:+0200
TZNAME:CEST
DTSTART:20150329T010000
END:DAYLIGHT
BEGIN:STANDARD
TZOFFSETFROM:+0200
TZOFFSETTO:+0100
TZNAME:CET
DTSTART:20151025T010000
END:STANDARD
END:VTIMEZONE
BEGIN:VEVENT
DTSTART;VALUE=DATE:20150109
DTEND;VALUE=DATE:20150112
DTSTAMP:20260420T165021
CREATED:20141217T145824Z
LAST-MODIFIED:20190904T121644Z
UID:2145-1420761600-1421020799@www.austriacult.roma.it
SUMMARY:FÄK FEK FIK - LE TRE GIOVANI - WERNER SCHWAB da un'idea di Dante Antonelli con Martina Badiluzzi\, Giovanna Cammisa e Arianna Pozzoli
DESCRIPTION:9-10-11 gennaio 2015 / ore 21.00 \nSPECIALE FORUM AUSTRIACO: presentando questa newsletter al botteghino si potranno acquistare i biglietti al prezzo speciale di 8 euro. È gradita la prenotazione. \nPer il comunicato stampa in pdf – cliccare qui \nTre giovani attrici affrontano il paesaggio dei riferimenti della produzione del drammaturgo austriaco Werner Schwab con l’obiettivo di realizzare una scrittura originale\, che inizia dove lo spettacolo Le Presidentesse finisce\, portando sulla scena quello che Schwab stesso non ha mai scritto. Lo ha consegnato come una visione ai posteri\, alle future generazioni di giovani dissidenti: una cucina vuota\, uno schermo che diventa sempre più grande\, desideri d’amore sempre più contorti e incerti\, emarginazioni sempre più silenziose\, periferie di un mondo globalizzato al centro di un’indagine acuta e ironica\, appassionata ma spietata. \nSul palcoscenico\, tre donne giovani e belle interpretano Le Presidentesse con esasperata\, cinica e urlata cattiveria. Così Werner Schwab chiude il suo testo: le tre pensionate\, intrappolate in una cucina\, sono ora libere di accomodarsi\, come anonime spettatrici\, in una fila di platea. Le tre giovani le hanno sostituite e ricominciano il lavoro da capo ma con lo spirito della loro età\, con la follia urlata della loro giovinezza emarginata\, arrabbiata. Impossibile per Erna\, Grete e Maria sostenere un simile affronto\, si alzano e cercano in ogni modo di abbandonare la sala. Escono tutte e tre. Sul palcoscenico la rappresentazione prosegue ancora per un certo tempo. \nL’Europa è un deserto senza scena\, la parola è quella di una lingua ufficiale che non parla nessuno. Rimangono le minoranze\, le sottoculture\, le comunità con i loro messaggi interrotti dai rumori gracchianti e assordanti dei televisori\, dalle immagini di un mondo che non concede ascolto\, nemmeno alle voci che gridano più forte. Bandiere bruciate\, bestemmie urlate\, una fatica che trova sfogo solo nel non essere più niente. La tana è il mondo\, il mondo una tana\, per una generazione povera e avara\, di denari e di passioni\, costretta distesa sui materassi ad aspettare che il tempo scorra. L’unica alternativa è l’esposizione\, correre il rischio di impegnarsi\, raccontare se stessi. \n \nIl progetto SCH.lab \nLo SCH.lab è un progetto pedagogico e di ricerca realizzato con il sostegno di Duncan 3.0 da Dante Antonelli e Daniele Sterpetti sui Drammi Fecali di Werner Schwab. Il processo creativo\, messo in moto durante le fasi del laboratorio e la residenza alla Festa di Teatro Eco Logico di Stromboli\, attraverso un percorso di realizzazione di diverse performance individuali e collettive in forma di materiali per la scena\, ha portato il gruppo di lavoro a individuare nel finale de Le Presidentesse lo spiraglio per la creazione di un lavoro originale. \nCon il sostegno del  Forum Austriaco di Cultura nasce quindi FÄK FEK FIK – LE TRE GIOVANI\, uno spettacolo della drammaturgia collettiva a cura di Dante Antonelli\, che inizia lì dove finisce il testo di Werner Schwab. \ntrailer: https://vimeo.com/113233697 \nfacebook: https://www.facebook.com/fakfekfik \nLe prenotazioni sono da fare direttamente al TeatroSalaUno e si possono effettuare sia via e-mail\, che per telefono. \nInfo: \nTeatroSalaUno\nPorta San Giovanni\, 10 Roma\ntel: 06 98182993\nemail: info@salauno.it\nweb: http://www.salauno.it
URL:https://www.austriacult.roma.it/evento/fak-fek-fik-le-tre-giovani-werner-schwab-da-unidea-di-dante-antonelli-con-martina-badiluzzi-giovanna-cammisa-e-arianna-pozzoli/
LOCATION:Teatro Sala Uno\, Porta San Giovanni 10\, Roma\, 00185\, Italia
CATEGORIES:Teatro
ATTACH;FMTTYPE=image/png:https://www.austriacult.roma.it/wp-content/uploads/2014/12/fak-fek-fik.png
ORGANIZER;CN="Teatro%20Sala%20Uno":MAILTO:info@salauno.it
END:VEVENT
END:VCALENDAR