BEGIN:VCALENDAR
VERSION:2.0
PRODID:-//Forum Austriaco di Cultura Roma - ECPv5.12.4//NONSGML v1.0//EN
CALSCALE:GREGORIAN
METHOD:PUBLISH
X-WR-CALNAME:Forum Austriaco di Cultura Roma
X-ORIGINAL-URL:https://www.austriacult.roma.it
X-WR-CALDESC:Eventi per Forum Austriaco di Cultura Roma
BEGIN:VTIMEZONE
TZID:Europe/Berlin
BEGIN:DAYLIGHT
TZOFFSETFROM:+0100
TZOFFSETTO:+0200
TZNAME:CEST
DTSTART:20210328T010000
END:DAYLIGHT
BEGIN:STANDARD
TZOFFSETFROM:+0200
TZOFFSETTO:+0100
TZNAME:CET
DTSTART:20211031T010000
END:STANDARD
END:VTIMEZONE
BEGIN:VEVENT
DTSTART;VALUE=DATE:20210610
DTEND;VALUE=DATE:20210625
DTSTAMP:20260422T014408
CREATED:20210528T075143Z
LAST-MODIFIED:20210611T064208Z
UID:10475-1623283200-1624579199@www.austriacult.roma.it
SUMMARY:EMERGENZA PLASTICA
DESCRIPTION:FORUM PER IL FUTURO è un ciclo di incontri in cui poter approfondire le tematiche di sostenibilità ecologica e il rapporto dell’uomo con la natura e la tecnologia attraverso la presentazione di approcci innovativi capaci di rispondere alle sfide sociali ed ecologiche del futuro. Il format riunisce persone – principalmente dall’Austria e dall’Italia – che con le loro idee creative\, il loro impegno e le loro iniziative stanno contribuendo a plasmare un futuro migliore per la nostra società e il nostro pianeta. Una serie nata con l’intento di fornire ispirazione\, promuovere uno scambio costruttivo e permettere così alle persone di allargare i propri orizzonti.\nOriginariamente ideato come evento in presenza\, a causa della pandemia di Coronavirus il Forum Austriaco di Cultura Roma si è visto costretto a organizzare almeno il primo appuntamento de FORUM PER IL FUTURO online. \nIl tema della prima puntata è „EMERGENZA PLASTICA“. A parlarne insieme a noi i rappresentanti di Sonnengrün e plasticpreneur\, per l’Austria\, ed Ekoe e Qwarzo\, per l’Italia\, quattro iniziative impegnate nella prevenzione\, sostituzione o nel riciclaggio della plastica. \nApprofondimenti \nEKOE nasce come associazione ambientale nel 2011\, diventa cooperativa nel 2015 ed infine società benefit nel 2020\, ma il loro lavoro non è cambiato: abolire l’uso della plastica derivata da petrolio attraverso l’uso di monouso compostabile è il loro intento e obiettivo. EKOE punta alla diffusione del monouso compostabile (piatti monouso biodegradabili\, posate monouso biodegradabili\, bicchieri monouso biodegradabili\, contenitori per alimenti\, sacchetti e bustine e tovaglioli ecologici che possono essere gettati nell’umido) attraverso la fornitura delle sue ecostoviglie e prodotti a feste\, sagre\, eventi  e tutto il settore food e industria coinvolgendo enti e persone che hanno a cuore il pianeta in cui viviamo. www.ekoe.org \nQwarzo Italia S.p.A. è una società italiana che dispone di una innovativa tecnologia proprietaria capace di applicare alla carta un ritrovato che associa a quest’ultima caratteristiche idonee per la sostituzione degli oggetti monouso in plastica e bioplastica. Grazie all’adozione di prodotti in carta rivestita al Qwarzo nel packaging\, nella GDO e negli oggetti monouso verranno risparmiati nel solo 2021 circa 1000 tonnellate di plastica. Nel 2019 Qwarzo è stata insignita da National Geographic e da Sky Ventures del prestigioso ‘First Place Award in the Design Track for the Ocean Plastic Innovation’ e dal 2020 è primo firmatario del Manifesto del Decennio delle Nazioni Unite delle Scienze del Mare per lo Sviluppo Sostenibile [2021-2030]\, organizzato dalla Commissione Oceanografica Intergovernativa dell’UNESCO (https://decenniodelmare.it/) www.qwarzo.com \nPlastikpreneur è un’azienda giovane e innovativa impegnata nel riciclare la plastica e per questa sua mission ha ricevuto già diversi riconoscimenti. Macchinari semplici da usare permettono di trasformare i rifiuti in plastica in una materia prima secondaria. Una grande opportunità per le regioni più povere e svantaggiate del mondo di rendersi indipendenti e creare posti di lavoro\, ma anche un prodotto capace di interessare il mercato del mondo occidentale. https://plasticpreneur.com/ \nSonnengrün nasce dalla volontà di una madre che ha deciso di porre rimedio alle montagne di rifiuti di plastica\, che non fanno che aumentare. Elisabeth Sonnleithner inizia quindi a cercare alternative agli imballaggi di plastica di uso comune nella vita quotidiana e trova così tante valide soluzioni che decide di lasciare il proprio lavoro e aprire un negozio. „Sonnengrün“\, a Vienna (Hollandstraße 12) e online\, propone prodotti plastic free per ogni giorno\, prodotti per la pulizia e cosmetici. Quattro anni dopo è in cantiere già il terzo negozio a Vienna! https://www.sonnengruen.com/ \n \nPer vedere i sottotitoli in lingua tedesca o italiana digitare il tasto “Impostazioni”. \n  \n 
URL:https://www.austriacult.roma.it/evento/emergenza-plastica/
LOCATION:#incontro digitale
CATEGORIES:Online
ATTACH;FMTTYPE=image/jpeg:https://www.austriacult.roma.it/wp-content/uploads/2021/05/fpif-logo.jpg
END:VEVENT
END:VCALENDAR