BEGIN:VCALENDAR
VERSION:2.0
PRODID:-//Forum Austriaco di Cultura Roma - ECPv5.12.4//NONSGML v1.0//EN
CALSCALE:GREGORIAN
METHOD:PUBLISH
X-WR-CALNAME:Forum Austriaco di Cultura Roma
X-ORIGINAL-URL:https://www.austriacult.roma.it
X-WR-CALDESC:Eventi per Forum Austriaco di Cultura Roma
BEGIN:VTIMEZONE
TZID:Europe/Berlin
BEGIN:DAYLIGHT
TZOFFSETFROM:+0100
TZOFFSETTO:+0200
TZNAME:CEST
DTSTART:20230326T010000
END:DAYLIGHT
BEGIN:STANDARD
TZOFFSETFROM:+0200
TZOFFSETTO:+0100
TZNAME:CET
DTSTART:20231029T010000
END:STANDARD
END:VTIMEZONE
BEGIN:VEVENT
DTSTART;VALUE=DATE:20230125
DTEND;VALUE=DATE:20230218
DTSTAMP:20260421T205453
CREATED:20230103T143141Z
LAST-MODIFIED:20230125T145857Z
UID:12753-1674604800-1676678399@www.austriacult.roma.it
SUMMARY:ELISA SPRINGER Il silenzio eloquente della memoria
DESCRIPTION:In occasione del Giorno della Memoria il Forum Austriaco di Cultura Roma\, in collaborazione con il Museo Ebraico di Vienna e la Fondazione Elisa Springer A-24020\, presenta la vita di Elisa Springer in una mostra. Elisa Springer (1918 Vienna – 2004 Matera) si è fatta instancabile testimone della persecuzione del regime nazista nelle scuole italiane fino alla sua morte nel 2004: nata a Vienna nel 1918\, sopravvive all’Olocausto anche grazie a un matrimonio di facciata con un cittadino italiano. \nlun – ven | ore 09.00-17.00 \n 
URL:https://www.austriacult.roma.it/evento/elisa-springer-il-silenzio-eloquente-della-memoria/
LOCATION:Roma – Forum Austriaco di Cultura\, Viale Bruno Buozzi 113\, 00197
CATEGORIES:Mostra
ATTACH;FMTTYPE=image/png:https://www.austriacult.roma.it/wp-content/uploads/2023/01/SNIP.png
END:VEVENT
END:VCALENDAR