BEGIN:VCALENDAR
VERSION:2.0
PRODID:-//Forum Austriaco di Cultura Roma - ECPv5.12.4//NONSGML v1.0//EN
CALSCALE:GREGORIAN
METHOD:PUBLISH
X-WR-CALNAME:Forum Austriaco di Cultura Roma
X-ORIGINAL-URL:https://www.austriacult.roma.it
X-WR-CALDESC:Eventi per Forum Austriaco di Cultura Roma
BEGIN:VTIMEZONE
TZID:Europe/Berlin
BEGIN:DAYLIGHT
TZOFFSETFROM:+0100
TZOFFSETTO:+0200
TZNAME:CEST
DTSTART:20200329T010000
END:DAYLIGHT
BEGIN:STANDARD
TZOFFSETFROM:+0200
TZOFFSETTO:+0100
TZNAME:CET
DTSTART:20201025T010000
END:STANDARD
END:VTIMEZONE
BEGIN:VEVENT
DTSTART;VALUE=DATE:20200717
DTEND;VALUE=DATE:20200928
DTSTAMP:20260421T193728
CREATED:20200622T101408Z
LAST-MODIFIED:20200708T101406Z
UID:8962-1594944000-1601251199@www.austriacult.roma.it
SUMMARY:EDITORIALE
DESCRIPTION:Philipp Fleischmann è fra gli artisti chiamati da Luca Lo Pinto per EDITORIALE\, la mostra che segna l’inizio della programmazione espositiva del MACRO curata e diretta dallo stesso Lo Pinto. \nCinquantacinque opere di artisti che si esprimono in discipline diverse\, selezionate per tracciare quello che saranno contenuti\, percorsi e prospettive del nuovo MACRO – Museo per l’immaginazione preventiva. \nL’artista austriaco partecipa con una delle sue ultime produzioni – Untitled (at large)\, 2020 – un’installazione filmica in 16 mm\, con cui Philipp Fleischmann\, come gli altri colleghi invitati\, interroga lo status di opera d’arte e a sua capacità  di raccontare e far risuonare la complessità del presente. \nIngresso gratuito con prenotazione obbligatoria: www.museomacro.it/it/prenotazione/ \nOrari\n17 luglio 2020:\nApertura straordinaria dalle ore 12.00 alle 24.00 \n18 luglio – 27 settembre 2020:\nMartedì – giovedì: ore 11.00 – 20.00\nVenerdì – sabato: ore 11.00 – 22.00\nDomenica: ore 11.00 – 20.00\nLunedì chiuso \nCommunicazione stampa \nLa mostra prosegue fino al 27 settembre 2020. \n 
URL:https://www.austriacult.roma.it/evento/editoriale/
LOCATION:Roma – MACRO\, Via Nizza 138
CATEGORIES:Mostra
ATTACH;FMTTYPE=image/jpeg:https://www.austriacult.roma.it/wp-content/uploads/2020/06/MACRO.jpg
END:VEVENT
END:VCALENDAR