BEGIN:VCALENDAR
VERSION:2.0
PRODID:-//Forum Austriaco di Cultura Roma - ECPv5.12.4//NONSGML v1.0//EN
CALSCALE:GREGORIAN
METHOD:PUBLISH
X-WR-CALNAME:Forum Austriaco di Cultura Roma
X-ORIGINAL-URL:https://www.austriacult.roma.it
X-WR-CALDESC:Eventi per Forum Austriaco di Cultura Roma
BEGIN:VTIMEZONE
TZID:Europe/Berlin
BEGIN:DAYLIGHT
TZOFFSETFROM:+0100
TZOFFSETTO:+0200
TZNAME:CEST
DTSTART:20170326T010000
END:DAYLIGHT
BEGIN:STANDARD
TZOFFSETFROM:+0200
TZOFFSETTO:+0100
TZNAME:CET
DTSTART:20171029T010000
END:STANDARD
END:VTIMEZONE
BEGIN:VEVENT
DTSTART;TZID=Europe/Berlin:20170125T200000
DTEND;TZID=Europe/Berlin:20170125T213000
DTSTAMP:20260422T043141
CREATED:20161214T100757Z
LAST-MODIFIED:20170118T103232Z
UID:4139-1485374400-1485379800@www.austriacult.roma.it
SUMMARY:Der schmale Grat der Wahrheit (v.o. con sottotitoli in italiano)
DESCRIPTION:cinema \nIn occasione del „Giorno della Memoria“ la proiezione del film Luis Trenker – Der schmale Grat der Wahrheit\, per la regia di Wolfgang Murnberger e l’interpretazione di Tobias Moretti. A presentare la pellicola in anteprima italiana\, lo sceneggiatore Peter Probst intervistato da Stefano Finesi. \n\nsinossi \nNell’estate del 1948 l’alpinista\, attore e regista Luis Trenker parte per Venezia. Lì\, in occasione del festival cinematografico\, tenta di vendere i diari di Eva Braun al famoso agente di Hollywood\, l’ebreo Paul Kohner\, nella speranza di poterne fare un film. \nNel contempo presso la corte di stato di Monaco di Baviera si discute sull’autenticità dei diari che Trenker avrebbe ricevuto a Kitzbühel proprio da Eva Braun\, negli ultimi giorni di guerra. La regista Leni Riefenstahl si sente diffamata dall’allusione contenuta nei diari che fosse stata l’amante di Hitler e si costituisce parte civile. Imputa a Luis Trenker\, con cui aveva avuto una storia d’amore\, di aver falsificato i diari per vendetta e invidia\, screditandola come amante del Führer. \nIl film racconta\, attraverso flashback\, la storia di due carrieristi senza scrupoli\, che da artisti hanno trovato la propria strada attraverso la dittatura\, insensibili a qualunque morale politica. \n\nLuis Trenker (Ortisei\, 1892 – Bolzano\, 1990) è stato un personaggio poliedrico\, fortemente legato alla montagna come militare\, atleta\, scrittore\, attore e regista. Inizialmente sostenuto da Goebbels e Hitler\, Luis Trenker\, diventa il regista più importante dell‘epoca (fra le sue pellicole si ricordano “Der Rebell”\, 1932\, e “Der verlorene Sohn”\, 1934). La propria superbia lo conduce verso un declino irrefrenabile\, da cui non si riprenderà mai del tutto\, neanche dopo la fine della guerra. \n  \nTrailer (in tedesco): https://www.youtube.com/watch?v=w-MmyWjEZeY \n  \nScheda Film \nLuis Trenker – Der schmale Grat der Wahrheit; Austria/Germania 2015\, 90 min. \n  \nREGIA                         Wolfgang Murnberger \nINTERPRETI \nTobias Moretti (Luis Trenker) \nBrigitte Hobmeier (Leni Riefenstahl) \nAnatole Taubman (Paul Kohner) \nAndré Jung (Arnold Fanck) \nMarc Benjamin (Erich Kempka) \nOle Eisfeld (Sam) \nJ. David Hinze (Max) \nAndrea Pergolesi (Carmelo) \nAnna Unterberger (Journalistin) \nArndt Schwering-Sohnrey (Josef Goebbels) \nBarbara Romaner (Hilda von Bleichert) \nFelix Hellmann (Hans Schneeberger) \nGerti Drassl (Gisela Schneeberger) \n  \nSCENEGGIATURA       Peter Probst \nFOTOGRAFIA              Peter von Haller \nMONTAGGIO             Evi Romen \nPRODUTTORE            Roxy Film\, epo-Film\, ORF\, BR \n  \n  \n  \n 
URL:https://www.austriacult.roma.it/evento/der-schmale-grat-der-wahrheit-v-o-con-sottotitoli-in-italiano/
LOCATION:Roma – Forum Austriaco di Cultura\, Viale Bruno Buozzi 113\, 00197
CATEGORIES:Cinema
END:VEVENT
END:VCALENDAR