BEGIN:VCALENDAR
VERSION:2.0
PRODID:-//Forum Austriaco di Cultura Roma - ECPv5.12.4//NONSGML v1.0//EN
CALSCALE:GREGORIAN
METHOD:PUBLISH
X-WR-CALNAME:Forum Austriaco di Cultura Roma
X-ORIGINAL-URL:https://www.austriacult.roma.it
X-WR-CALDESC:Eventi per Forum Austriaco di Cultura Roma
BEGIN:VTIMEZONE
TZID:Europe/Berlin
BEGIN:DAYLIGHT
TZOFFSETFROM:+0100
TZOFFSETTO:+0200
TZNAME:CEST
DTSTART:20230326T010000
END:DAYLIGHT
BEGIN:STANDARD
TZOFFSETFROM:+0200
TZOFFSETTO:+0100
TZNAME:CET
DTSTART:20231029T010000
END:STANDARD
END:VTIMEZONE
BEGIN:VEVENT
DTSTART;TZID=Europe/Berlin:20230302T200000
DTEND;TZID=Europe/Berlin:20230302T200000
DTSTAMP:20260421T202956
CREATED:20230214T143759Z
LAST-MODIFIED:20230215T091419Z
UID:12866-1677787200-1677787200@www.austriacult.roma.it
SUMMARY:DEDICATED | Martin Listabarth
DESCRIPTION:Martin Listabarth presenta a Roma “Dedicated”\, il suo secondo album da solista\, con composizioni proprie in cui il pianista e compositore viennese combina armoniosamente jazz e musica classica. Questo nuovo lavoro prosegue senza cesure il percorso iniziato nel 2019 con “Short Stories”\, suo disco d’esordio. Una musica che incita a sognare e a spaziare in altre dimensioni\, un suono caldo e curato\, che ti afferra con mano delicata e ti affabula\, melodie che raccontano storie diverse senza proferire parola\, solo attraverso il suono. \nCosì il musicista\, Martin Listabarth: «Ogni brano di questo album è dedicato a una persona in particolare. Il mio obbiettivo era quello di raccogliere storie di donne e uomini fra i più disparati […] nella vita e nel lavoro di queste persone ho cercato aspetti che non solo mi ispirassero personalmente\, ma che potessero anche essere tradotti in musica.» \nCennni biografici \nMartin Listabarth (*1991 Vienna) \nInizia a suonare il pianoforte a 5 anni\, molto interessato all’arte di comporre e di improvvisare\, concentra i propri studi presso l’Universität für Musik und Darstellende Kunst di Vienna su Pianoforte jazz e classico. Nel 2019 pubblica il suo primo album da solista\, “Short Stories”. La sua carriera può vantare esibizioni tanto in Austria (Wiener Musikverein\, Jazzclub Porgy & Bess\, ORF Radiokulturhaus)\, quanto in Germania (Bayerisches Jazzweekend)\, Repubblica Ceca\, Slovacchia\, Polonia (International Jazz Piano Festival Kalisz)\, Romania (Jazzunique Festival) e Bulgaria (Haskovo Jazz Festival). Con il suo secondo album da solista\, “Dedicated” (2022)\, convince la critica sia nazionale che internazionale e viene presentato al grande pubblico dalla radio di stato austriaca Ö1 e dall’emittente tedesco BR-Klassik. Per il biennio 2023/24 viene selezionato per il programma NASOM\, con cui il Ministero degli Esteri Austriaco sostiene giovani musicisti di alto livello. \nhttps://www.martinlistabarth.at/ \nNASOM (The New Austrian Sound of Music) è il programma appositamente studiato dal Ministero Federale austriaco per l’Europa\, l’Integrazione e gli Affari esteri per sostenere giovani musiciste e musicisti emergenti che vivono in Austria a esibirsi all’estero. Se da una parte il programma è volto a offrire – attraverso la rete globale di ambasciate\, forum di cultura e consolati austriaci – un sostegno alle esibizioni internazionali di giovani talenti promettenti\, dall’altro si propone di attirare l’attenzione su quella che è una fervida produzione musicale austriaca\, vivace\, moderna e culturalmente varia\, capace di andare oltre le tradizioni. \nOgni due anni gli artisti emergenti ammessi a NASOM vengono selezionati in collaborazione con Music Export Austria e conservatori/dipartimenti di musica austriaci dai diversi generi musicali: musica classica\, jazz\, world music\, musica contemporanea\, pop. \nProgramma \n 
URL:https://www.austriacult.roma.it/evento/dedicated-martin-listabarth/
LOCATION:Roma – Forum Austriaco di Cultura\, Viale Bruno Buozzi 113\, 00197
CATEGORIES:Concerto
ATTACH;FMTTYPE=image/jpeg:https://www.austriacult.roma.it/wp-content/uploads/2023/02/Martin-Listabarth-by-Theresa-Pewal-103.jpg
END:VEVENT
END:VCALENDAR