BEGIN:VCALENDAR
VERSION:2.0
PRODID:-//Forum Austriaco di Cultura Roma - ECPv5.12.4//NONSGML v1.0//EN
CALSCALE:GREGORIAN
METHOD:PUBLISH
X-WR-CALNAME:Forum Austriaco di Cultura Roma
X-ORIGINAL-URL:https://www.austriacult.roma.it
X-WR-CALDESC:Eventi per Forum Austriaco di Cultura Roma
BEGIN:VTIMEZONE
TZID:Europe/Berlin
BEGIN:DAYLIGHT
TZOFFSETFROM:+0100
TZOFFSETTO:+0200
TZNAME:CEST
DTSTART:20200329T010000
END:DAYLIGHT
BEGIN:STANDARD
TZOFFSETFROM:+0200
TZOFFSETTO:+0100
TZNAME:CET
DTSTART:20201025T010000
END:STANDARD
END:VTIMEZONE
BEGIN:VEVENT
DTSTART;TZID=Europe/Berlin:20200608T180000
DTEND;TZID=Europe/Berlin:20200615T180000
DTSTAMP:20260422T023050
CREATED:20200527T130508Z
LAST-MODIFIED:20200608T151503Z
UID:8596-1591639200-1592244000@www.austriacult.roma.it
SUMMARY:DALDOSSI OVVERO LA VITA DELL'ISTANTE | SABINE GRUBER
DESCRIPTION:Sabine Gruber legge da “Daldossi oder das Leben des Augenblicks – Daldossi\, ovvero La vita dell’istante”\, l’ultimo romanzo dell’autrice residente a Vienna\, uscito in Italia nella traduzione di Cesare de Marchi per Marsilio nel 2019 e già nominato per il Österreichischer Buchpreis\, il maggiore premio letterario austriaco\, nel 2016. Introduce il reading Luigi Reitani\, professore di Letteratura Tedesca all’Università di Udine e direttore editoriale dell’Istituto Italiano di Studi Germanici. \n \nSe i sottotitoli non sono visibili\, cliccare sul´icona   sul video in basso a destra. \nLa macchina fotografica non è un filtro: dentro di sé\, impresso a fuoco\, Daldossi custodisce tutto quello che ha visto e documentato\, e ora\, incapace di riprendersi quella «vita superflua» che si è sempre negato\, sente che il suo tentativo di far rivivere la realtà nelle fotografie è naufragato.\nChi può dire quando è doveroso intervenire sul campo e quando invece è giusto scattare? Una fotografia può comunicare davvero il dolore? Può essere uno strumento per recuperare ciò che si è perduto? Quelle immagini con cui Daldossi credeva di fermare il tempo\, indelebili nella sua mente\, gli altri si limitano a scorrerle sulle pagine delle riviste a colori\, senza comprendere.\nNella sua inquieta ricerca di un posto nel mondo\, per scendere finalmente a patti col suo mestiere\, il fotografo dovrà arrivare fino a Lampedusa: solo lì\, nell’estremo Sud dell’Europa\, al seguito di una vecchia amica giornalista\, sarà pronto ad affrontare la realtà con una consapevolezza del tutto nuova. \nRecensione di Luigi Reitani (Il Sole24ore\, 21.12.2019): http://www.marsilioeditori.it/media/rassegna_stampa/sol19c292970182.pdf \ncenni biografici \nSabine Gruber\, nata a Merano nel 1963\, studia germanistica\, storia e scienze politiche a Innsbruck e Vienna. Numerosi riconoscimenti\, fra cui: Veza-Canetti-Preis della città di Vienna\, Österreichischer Kunstpreis für Literatur (2016)\, Preis der Stadt Wien für Literatur (2019). Di ultima uscita: „Stillbach oder Die Sehnsucht“ (C.H.Beck 2011)\, „Daldossi oder Das Leben des Augenblicks“ (romanzo – C.H.Beck 2016\, dtv 2018); „Am Abgrund und im Himmel zuhause“ (raccolta di poesie\, Haymon 2018). \nLibri in traduzione italiana: „Stillbach o della Nostalgia” (Marsilio 2014)\, „Daldossi\, ovvero la vita dell’istante” (Marsilio 2019). \nwww.sabinegruber.at \nPassoLaParola è una cooperazione fra il Goethe-Institut e il Forum Austriaco di Cultura Roma. Per consultare il ciclo completo di letture: PASSO LA PAROLA – LETTURE IN LINGUA TEDESCA \n  \n 
URL:https://www.austriacult.roma.it/evento/daldossi-ovvero-la-vita-dellistante-sabine-gruber/
LOCATION:#PassoLaParola #LibriSulSofà #AustriaKulturDigital
CATEGORIES:Letteratura
ATTACH;FMTTYPE=image/jpeg:https://www.austriacult.roma.it/wp-content/uploads/2020/05/GruberSabine_cGunterGluecklich.jpeg
END:VEVENT
END:VCALENDAR