BEGIN:VCALENDAR
VERSION:2.0
PRODID:-//Forum Austriaco di Cultura Roma - ECPv5.12.4//NONSGML v1.0//EN
CALSCALE:GREGORIAN
METHOD:PUBLISH
X-WR-CALNAME:Forum Austriaco di Cultura Roma
X-ORIGINAL-URL:https://www.austriacult.roma.it
X-WR-CALDESC:Eventi per Forum Austriaco di Cultura Roma
BEGIN:VTIMEZONE
TZID:Europe/Berlin
BEGIN:DAYLIGHT
TZOFFSETFROM:+0100
TZOFFSETTO:+0200
TZNAME:CEST
DTSTART:20240331T010000
END:DAYLIGHT
BEGIN:STANDARD
TZOFFSETFROM:+0200
TZOFFSETTO:+0100
TZNAME:CET
DTSTART:20241027T010000
END:STANDARD
END:VTIMEZONE
BEGIN:VEVENT
DTSTART;TZID=Europe/Berlin:20240703T210000
DTEND;TZID=Europe/Berlin:20240703T210000
DTSTAMP:20260421T115031
CREATED:20240607T105938Z
LAST-MODIFIED:20240610T141457Z
UID:18667-1720040400-1720040400@www.austriacult.roma.it
SUMMARY:CLUB ZERO
DESCRIPTION:CLUB ZERO \n(2023\, durata: 110’) di Jessica Hausner. \ncon Mia Wasikowska\, Sidse Babett Knudsen \nIn versione originale INGLESE con sottotitoli in italiano. \nAssunta da un prestigioso liceo privato\, Miss Novak tiene un corso di nutrizione a dir poco radicale. Alcuni studenti\, caduti sotto la sua influenza\, finiranno per entrare nella cerchia dell’inquietante Club Zero… Applaudito in concorso a Cannes\, l’ultimo film di Jessica Hausner è una favola nera che si interroga sulle forme più estreme della “fede”\, con quello stile geometrico e personalissimo che ha reso la regista austriaca famosa nel mondo. \nClub Zero (2023) di Jessica Hausner – Recensione | Cinema Austriaco (cinema-austriaco.org) \nProgramma Sotto le stelle dell’Austria \n  \nIngresso gratuito con prenotazione obbligatoria. Per prenotarsi scrivere a prenotazione.forumaustriaco@gmail.com indicando nome e cognome e il film scelto. \nLe richieste\, da inviare entro le 12.00 del giorno della proiezione\, saranno ammesse in ordine di arrivo fino a esaurimento posti. La prenotazione sarà valida solo con una email di conferma. \n  \n  \n 
URL:https://www.austriacult.roma.it/evento/club-zero/
LOCATION:Roma – Forum Austriaco di Cultura\, Viale Bruno Buozzi 113
CATEGORIES:Cinema,Programma
ATTACH;FMTTYPE=image/jpeg:https://www.austriacult.roma.it/wp-content/uploads/2024/06/Club-Zero-HP.jpg
END:VEVENT
END:VCALENDAR