BEGIN:VCALENDAR
VERSION:2.0
PRODID:-//Forum Austriaco di Cultura Roma - ECPv5.12.4//NONSGML v1.0//EN
CALSCALE:GREGORIAN
METHOD:PUBLISH
X-WR-CALNAME:Forum Austriaco di Cultura Roma
X-ORIGINAL-URL:https://www.austriacult.roma.it
X-WR-CALDESC:Eventi per Forum Austriaco di Cultura Roma
BEGIN:VTIMEZONE
TZID:Europe/Berlin
BEGIN:DAYLIGHT
TZOFFSETFROM:+0100
TZOFFSETTO:+0200
TZNAME:CEST
DTSTART:20260329T010000
END:DAYLIGHT
BEGIN:STANDARD
TZOFFSETFROM:+0200
TZOFFSETTO:+0100
TZNAME:CET
DTSTART:20261025T010000
END:STANDARD
END:VTIMEZONE
BEGIN:VEVENT
DTSTART;TZID=Europe/Berlin:20260425T170000
DTEND;TZID=Europe/Berlin:20260425T170000
DTSTAMP:20260420T151535
CREATED:20260420T092930Z
LAST-MODIFIED:20260420T092930Z
UID:26040-1777136400-1777136400@www.austriacult.roma.it
SUMMARY:BASTA! DONNE IN RESISTENZA | Sabine Scholl insieme al coro di Monticello Amiata
DESCRIPTION:Quando nel settembre 1943 i tedeschi occupano l’Italia\, la resistenza italiana contro i fascisti e i nazisti si intensifica. Laura e le sue amiche lavorano come staffette\, messaggere incaricate di garantire la comunicazione e i rifornimenti tra vari gruppi di partigiani. Alcune di loro si uniscono anche alle unità di combattenti sulle montagne\, dove si nascondono insieme agli uomini e ricevono il sostegno della popolazione locale. \nProgetto: Raub und Widerstand\, romanzo \n  \nSABINE SCHOLL ha studiato a Vienna e ha insegnato ad Aveiro\, Chicago\, New York\, Nagoya; ha tenuto corsi di scrittura creativa presso: Schule für Dichtung di Vienna\, Deutsches Literaturinstitut di Lipsia\, UDK di Berlino\, Institut für Sprachkunst der Angewandten di Vienna. Pubblicazioni (scelta): Transit Lissabon\, romanzo (2024)\, Haben und Gehabe – Klasse und Herkunft in der Literatur (2025)\, Die Zweite Haut\, memorie (2025).www.sabinescholl.com
URL:https://www.austriacult.roma.it/evento/basta-donne-in-resistenza-sabine-scholl-insieme-al-coro-di-monticello-amiata/
LOCATION:Monticello Amiata – piazza della chiesa
CATEGORIES:Letteratura
ATTACH;FMTTYPE=image/jpeg:https://www.austriacult.roma.it/wp-content/uploads/2026/04/Grafik.jpg
END:VEVENT
END:VCALENDAR