BEGIN:VCALENDAR
VERSION:2.0
PRODID:-//Forum Austriaco di Cultura Roma - ECPv5.12.4//NONSGML v1.0//EN
CALSCALE:GREGORIAN
METHOD:PUBLISH
X-WR-CALNAME:Forum Austriaco di Cultura Roma
X-ORIGINAL-URL:https://www.austriacult.roma.it
X-WR-CALDESC:Eventi per Forum Austriaco di Cultura Roma
BEGIN:VTIMEZONE
TZID:Europe/Berlin
BEGIN:DAYLIGHT
TZOFFSETFROM:+0100
TZOFFSETTO:+0200
TZNAME:CEST
DTSTART:20210328T010000
END:DAYLIGHT
BEGIN:STANDARD
TZOFFSETFROM:+0200
TZOFFSETTO:+0100
TZNAME:CET
DTSTART:20211031T010000
END:STANDARD
END:VTIMEZONE
BEGIN:VEVENT
DTSTART;TZID=Europe/Berlin:20211210T163000
DTEND;TZID=Europe/Berlin:20211210T163000
DTSTAMP:20260421T170738
CREATED:20211206T133828Z
LAST-MODIFIED:20211209T094342Z
UID:11209-1639153800-1639153800@www.austriacult.roma.it
SUMMARY:AUSSTEHENDES GEPÄCK - BAGAGLI IN SOSPESO. EBREI IN TRANSITO ALL’IDROSCALO DI PORTO CONTE
DESCRIPTION:La scoperta dell’esistenza ad Alghero di numerosi “bagagli in sospeso” ovvero bagagli spediti da famiglie ebree per essere recuperati durante una tappa della fuga dalle persecuzioni naziste\, ha motivato lo studioso Massimiliano Fois e Valentina Piredda-Sardinia a rinnovare attraverso una mostra installativa la testimonianza di una solidarietà umana che anche in Sardegna sfidava i regimi. Presso l’idroscalo di Porto Conte.  \n“Ci sono cose incomprensibili… troppe\, una di queste\, le leggi razziali del 1938 in Italia. E l’incomprensibile sta nel fatto che un gruppo di persone\, decida\, ad un certo punto\, seguendo un filo logico ai più sconosciuto\, di sostenere\, di essere superiori ad altri. Questa esposizione\, che brucia gli occhi di chi guarda\, accompagna un’immagine. Una installazione che è un ricordo. Un brutto incubo che durò notti e notti. Un ricordo che deve essere tatuato sul cuore di ogni essere umano anche non nato. Un ricordo che serva da memento\, da monito\, scolpito nell’animo umano “come una rana d’inverno”. *\nAll’interno di una cassa da viaggio degli anni ’30 del Novecento\, sono stati ritrovati alcuni indumenti\, tutti appartenenti ad una famiglia\, una famiglia in fuga\, e su un cappottino tutti i bottoni hanno cucita la Stella di David … Questa cassa per anni ha riposato in una cantina\, poi nel box di un cavallo in campagna. Della famiglia non sappiamo niente\, ma sappiamo che la cassa è rimasta qui … forse sono scappati ugualmente? Di fretta e senza poter recuperare il bagaglio?” (Massimiliano Fois).  \nAttraverso alcuni racconti del personale che faceva capo allo scalo di Porto Conte e alla compagnia aerea\, si è sempre di più avvalorata la tesi che alla fine degli anni ’30\, alcuni voli\, avrebbero dato la possibilità a famiglie ebree\, di fuggire dalle persecuzioni naziste. Perlopiù erano provenienti da Budapest e Vienna con transito a Roma e dopo un’indispensabile tappa sarda nell’Idroscalo di Porto Conte\, raggiungevano Barcellona per approdare poi in Sud America dal Portogallo con i Clipper transoceanici della Pan American. \nL’esposizione è a cura di Massimiliano Fois e del Gabinetto storico delle curiosità e fa parte del progetto AUSTRIAMENTIS 2021 a cura di Valentina Piredda-Sardinia. \nIn collaborazione con: Forum Austriaco di Cultura di Roma/BMEIA;\nParco Naturale Regionale di Porto Conte; \nM.A.S.E. Museo Antoine de Saint-Exupéry Alghero; \nSocietà Operaia Mutuo Soccorso Alghero; \nMuseo Casa Manno Alghero; Ass. Salpare/Roma\nAss. Fondo VP-Sardinia. \n*) tratto da: Primo Levi\, “Se questo è un uomo” e Daniela Padoan\, “Come una rana d´inverno” 
URL:https://www.austriacult.roma.it/evento/ausstehendes-gepack-bagagli-in-sospeso-ebrei-in-transito-allidroscalo-di-porto-conte/
LOCATION:Alghero – Galleria CULT\, Bastioni Marco Polo 39 A
CATEGORIES:Inaugurazione
ATTACH;FMTTYPE=image/jpeg:https://www.austriacult.roma.it/wp-content/uploads/2021/12/massimiliano-fois-bagagli-in-sospeso-2021.jpg
END:VEVENT
END:VCALENDAR