BEGIN:VCALENDAR
VERSION:2.0
PRODID:-//Forum Austriaco di Cultura Roma - ECPv5.12.4//NONSGML v1.0//EN
CALSCALE:GREGORIAN
METHOD:PUBLISH
X-WR-CALNAME:Forum Austriaco di Cultura Roma
X-ORIGINAL-URL:https://www.austriacult.roma.it
X-WR-CALDESC:Eventi per Forum Austriaco di Cultura Roma
BEGIN:VTIMEZONE
TZID:Europe/Berlin
BEGIN:DAYLIGHT
TZOFFSETFROM:+0100
TZOFFSETTO:+0200
TZNAME:CEST
DTSTART:20200329T010000
END:DAYLIGHT
BEGIN:STANDARD
TZOFFSETFROM:+0200
TZOFFSETTO:+0100
TZNAME:CET
DTSTART:20201025T010000
END:STANDARD
END:VTIMEZONE
BEGIN:VEVENT
DTSTART;TZID=Europe/Berlin:20200415T180000
DTEND;TZID=Europe/Berlin:20200415T180000
DTSTAMP:20260421T214122
CREATED:20200407T132054Z
LAST-MODIFIED:20200415T151339Z
UID:8063-1586973600-1586973600@www.austriacult.roma.it
SUMMARY:OLIVER RESSLER | Everything's coming together while everything's falling apart
DESCRIPTION:Attraverso le proprie opere fotografiche e video Oliver Ressler intende confrontarsi artisticamente con i movimenti per la protezione del clima e la resistenza alla distruzione del clima terrestre.\nLa sua mostra “In and against the War on Terra”\, la cui inaugurazione a Roma prevista per il 15 aprile presso “The Gallery Apart”\, è stata rinviata all’autunno 2020 in conformità alle attuali misure precauzionali. Non intendiamo farvi aspettare così a lungo e presentiamo già ora – sul web – il lavoro “Everything’s coming together while everything’s falling apart: ENDE GELÄNDE” di Oliver Ressler e un’introduzione al suo progetto “Barricading the Ice Sheets”. \nOliver Ressler su “Barricading the Ice Sheets”\, Camera Austria (Accademia di Graz)\, 2:35 min.\, 2020  \n \nOliver Ressler\, “Everything’s coming together while everything’s falling apart: ENDE GELÄNDE”\, 12 min.\, 2016  \n \nIl video sull’azione “Ende Gelände” è incentrato su un’azione di disobbedienza civile nelle miniere di lignite della Lusazia (presso Berlino). 4000 attiviste e attivisti hanno invaso la miniera a cielo aperto\, bloccando la zona di carico e il collegamento ferroviario con una centrale a carbone. Il blocco ha tagliato la fornitura di carbone e ha costretto il proprietario svedese Vattenfall a chiudere la centrale.\nL’azione era parte di un’azione di protesta internazionale contro l’uso dei combustibili fossili. Sollecita il disimpegno dai combustibili fossili e mette direttamente in pratica questo comandamento. \n  \nCenni biografici \nOliver Ressler vive e lavora a Vienna. Realizza installazioni\, progetti in spazi pubblici e film su temi come economia\, democrazia\, migrazioni\, la catastrofe climatica\, forme di resistenza e ai alternative sociali. \nHa realizzato trentatré film che sono stati proiettati in tutto il mondo in migliaia di eventi tenuti da movimenti sociali\, istituzioni d’arte e festival cinematografici. \nSue mostre personali sono state ospitate da ar / ge kunst\, Bolzano; S.a.L.E.-Docks\, Venezia; Fondazione Pastificio Cerere\, Roma. Mostre personali antologiche si sono svolte presso il Centro Andaluz de Arte Contemporaneo – CAAC\, Siviglia; Wyspa Institute of Art\, Danzica; Lentos Kunstmuseum\, Linz; MNAC – Museo Nazionale di Arte Contemporanea\, Bucarest; SALT Galata\, Istanbul e Centro culturale di Belgrado. \nRessler ha partecipato a oltre 350 mostre collettive in importanti istituzioni\, tra cui il Museo Reina Sofía\, Madrid; Centre Pompidou\, Parigi; Museo Van Abbe\, Eindhoven; MASSMoCA\, North Adams\, USA; Castello di Rivoli\, Torino; le biennali di Praga (2005)\, Siviglia (2006)\, Mosca (2007)\, Taipei (2008)\, Lione (2009)\, Venezia (2013)\, Quebec (2014)\, Jeju (2017)\, Kiev (2017)\, Göteborg (2019)\, Stavanger (2019) e Documenta 14\, Kassel\, 2017 (mostra organizzata da EMST). \nRessler dirige “Barricading the Ice Sheets”\, un progetto di ricerca sul movimento per la giustizia climatica\, finanziato dall’Austrian Science Fund. \nNel 2016 è stato il primo vincitore del Premio Thun per l’arte e l’etica. \nhttp://www.ressler.art\nhttps://vimeo.com/oliverressler\nhttps://www.instagram.com/oliver.ressler
URL:https://www.austriacult.roma.it/evento/aspettando-oliver-ressler/
LOCATION:#ArteSulSofà
CATEGORIES:Inaugurazione
ATTACH;FMTTYPE=image/jpeg:https://www.austriacult.roma.it/wp-content/uploads/2020/04/ressler-3.jpg
END:VEVENT
END:VCALENDAR