BEGIN:VCALENDAR
VERSION:2.0
PRODID:-//Forum Austriaco di Cultura Roma - ECPv5.12.4//NONSGML v1.0//EN
CALSCALE:GREGORIAN
METHOD:PUBLISH
X-WR-CALNAME:Forum Austriaco di Cultura Roma
X-ORIGINAL-URL:https://www.austriacult.roma.it
X-WR-CALDESC:Eventi per Forum Austriaco di Cultura Roma
BEGIN:VTIMEZONE
TZID:Europe/Berlin
BEGIN:DAYLIGHT
TZOFFSETFROM:+0100
TZOFFSETTO:+0200
TZNAME:CEST
DTSTART:20240331T010000
END:DAYLIGHT
BEGIN:STANDARD
TZOFFSETFROM:+0200
TZOFFSETTO:+0100
TZNAME:CET
DTSTART:20241027T010000
END:STANDARD
END:VTIMEZONE
BEGIN:VEVENT
DTSTART;TZID=Europe/Berlin:20240611T190000
DTEND;TZID=Europe/Berlin:20240611T190000
DTSTAMP:20260422T103634
CREATED:20240522T132410Z
LAST-MODIFIED:20240604T144525Z
UID:18169-1718132400-1718132400@www.austriacult.roma.it
SUMMARY:Arte\, amore\, abbandono. La pittrice Erika Giovanna Klien da Vienna a New York | Stefano Franchini\, Elena Goatelli
DESCRIPTION:Nata nel 1900 in Trentino\, periferia dell’impero austro-ungarico\, la pittrice Erika Giovanna Klien si forma dal 1919 al 1925 a Vienna\, dove\, sotto la guida del suo docente e mentore Franz Cizek\, assimila con incredibile rapidità e sicurezza i princìpi estetici e teorici delle avanguardie europee coeve\, come espressionismo tedesco\, cubismo francese\, futurismo italiano e costruttivismo russo\, che riesce a distillare in una sintesi personale e originalissima: il Cinetismo viennese. Espone in Europa e USA con i principali artisti del tempo. Nel 1929 emigra in America. Le ragioni della partenza sono ancora poco chiare e forse legate alla nascita\, nel novembre 1928\, di un figlio illegittimo: una vicenda complessa\, nella quale si intrecciano vita privata e storia universale. \nA causa delle difficoltà economiche\, a New York E.G. Klien affianca all’impegno artistico un’intensa attività d’insegnamento presso gli istituti più prestigiosi della città\, sviluppando una riflessione pionieristica sul rapporto tra arte e pedagogia. Minata nella salute e pressoché dimenticata\, l’artista austro-americana muore a New York nel 1957. \nAttraverso la realizzazione di un lungometraggio e di una monografia\, il progetto di ricerca interdisciplinare finanziato dall’Istituto Italiano di Studi Germanici di Roma\, sostenuto dalla Trentino Film Commission e prodotto da Filmwork intende narrare e proseguire il processo di riscoperta di quest’artista\, avviatosi negli anni Settanta. Durante la conferenza saranno esposti i risultati provvisori delle indagini ancora in corso e verrà proiettato un cortometraggio dedicato all’artista. \n  \nCenni biografici \nStefano Franchini è ricercatore dell’Istituto Italiano di Studi Germanici di Roma\, dove si occupa di storia delle idee\, con particolare attenzione all’antropologia storica\, alla storia dell’ebraismo\, alla storia dell’infanzia. Attualmente dirige all’IISG due progetti basati su ampie ricerche archivistiche: “Erika Giovanna Klien (1900-1957). Materiali per una riscoperta” e “La Philosophische Gruppe Berlin 1927-1932. Componenti\, programma\, rilevanza”. \nElena Goatelli è regista e autrice di film documentari con un focus particolare su soggetti biografici e artistici. Dopo la laurea in Letteratura Americana a Ca’ Foscari ha iniziato a lavorare in Spagna per Canal +\, nel dipartimento di documentari Produce +. Da oltre vent’anni lavora nel campo del cinema documentario\, ha diretto cinque lungometraggi premiati in festival nazionali ed internazionali. Attualmente lavora al film Looking for Erika sull’artista austro-americana Erika Giovanna Klien. \n 
URL:https://www.austriacult.roma.it/evento/arte-amore-abbandono-la-pittrice-erika-giovanna-klien-da-vienna-a-new-york-stefano-franchini-elena-goatelli/
LOCATION:Roma – Forum Austriaco di Cultura\, Viale Bruno Buozzi 113
CATEGORIES:Convegno,Programma
ATTACH;FMTTYPE=image/jpeg:https://www.austriacult.roma.it/wp-content/uploads/2024/05/Forum_Foto01-e1716384222113.jpg
END:VEVENT
END:VCALENDAR