BEGIN:VCALENDAR
VERSION:2.0
PRODID:-//Forum Austriaco di Cultura Roma - ECPv5.12.4//NONSGML v1.0//EN
CALSCALE:GREGORIAN
METHOD:PUBLISH
X-WR-CALNAME:Forum Austriaco di Cultura Roma
X-ORIGINAL-URL:https://www.austriacult.roma.it
X-WR-CALDESC:Eventi per Forum Austriaco di Cultura Roma
BEGIN:VTIMEZONE
TZID:Europe/Berlin
BEGIN:DAYLIGHT
TZOFFSETFROM:+0100
TZOFFSETTO:+0200
TZNAME:CEST
DTSTART:20220327T010000
END:DAYLIGHT
BEGIN:STANDARD
TZOFFSETFROM:+0200
TZOFFSETTO:+0100
TZNAME:CET
DTSTART:20221030T010000
END:STANDARD
END:VTIMEZONE
BEGIN:VEVENT
DTSTART;VALUE=DATE:20221219
DTEND;VALUE=DATE:20221227
DTSTAMP:20260422T033118
CREATED:20221125T161009Z
LAST-MODIFIED:20221227T090508Z
UID:12673-1671408000-1672099199@www.austriacult.roma.it
SUMMARY:ANGELUS NOVUS RELOADED
DESCRIPTION:Il video „Angelus Novus Reloaded“ si ispira alla composizione „Peace for Kyiv\, Suite op. 7“ della chitarrista e compositrice austriaca Julia Malischnig e il disegno Angelus Novus di Paul Klee\, creato dall’artista poco dopo la Prima Guerra Mondiale.\nRegia: Robert Hofferer \nDanza: Mariia Shurkhal (Ucraina)\nChitarra: Julia Malischnig \n„Angelus Novus Reloaded“ è un appello per la pace dall’Austria al mondo.  \n 
URL:https://www.austriacult.roma.it/evento/angelus-novus-reloaded/
LOCATION:#evento online in 7 puntate su App Emons\, Spotify\, Google podcast\, Apple podcast
ATTACH;FMTTYPE=image/jpeg:https://www.austriacult.roma.it/wp-content/uploads/2022/11/Plakat.jpg
END:VEVENT
END:VCALENDAR