BEGIN:VCALENDAR
VERSION:2.0
PRODID:-//Forum Austriaco di Cultura Roma - ECPv5.12.4//NONSGML v1.0//EN
CALSCALE:GREGORIAN
METHOD:PUBLISH
X-WR-CALNAME:Forum Austriaco di Cultura Roma
X-ORIGINAL-URL:https://www.austriacult.roma.it
X-WR-CALDESC:Eventi per Forum Austriaco di Cultura Roma
BEGIN:VTIMEZONE
TZID:Europe/Berlin
BEGIN:DAYLIGHT
TZOFFSETFROM:+0100
TZOFFSETTO:+0200
TZNAME:CEST
DTSTART:20180325T010000
END:DAYLIGHT
BEGIN:STANDARD
TZOFFSETFROM:+0200
TZOFFSETTO:+0100
TZNAME:CET
DTSTART:20181028T010000
END:STANDARD
END:VTIMEZONE
BEGIN:VEVENT
DTSTART;VALUE=DATE:20181024
DTEND;VALUE=DATE:20181027
DTSTAMP:20260421T054342
CREATED:20181102T170235Z
LAST-MODIFIED:20190904T104714Z
UID:5336-1540339200-1540598399@www.austriacult.roma.it
SUMMARY:1918. Crolli\, rivoluzioni e trasformazioni nell´Europa centrale tra storia e letteratura
DESCRIPTION:Un convegno organizzato dalla Struttura Didattica Speciale di Lingue e Letterature Straniere di Ragusa (Università degli Studi di Catania) nell’ambito della VI edizione delle “Hybläer Studientage der Germanistik/Giornate Iblee della Germanistica” dal 24 al 26 ottobre 2018. La tematica su cui si confrontano i diversi studiosi sarà analizzata all’interno di 5 macroaree: Realtà e visioni\, Cesure storiche\, Ripensare il mondo\, Guerra e dopoguerra\, Memoria e scritture.\nLo studioso austriaco Herbert Arlt (INST – Institut zur Erforschung und Förderung österreichischer und internationaler Literaturprozesse) partecipa al convegno con un contributo sulla storia dell’anno 1918 nelle opere letterarie\, dal titolo “Die Geschichte des Jahres 1918 in literarischen Werken”. \nHerbert Arlt\, nato nel 1958 a Bregenz\, è direttore della „Jura Soyfer Gesellschaft“ e dell’INST („Institut zur Erforschung und Förderung regionaler und transnationaler Kulturprozesse“) di Vienna.\nHerbert Arlt ha insegnato presso le università di Berlino\, Vienna\, Salisburgo e Innsbruck ed è stato invitato in oltre sessanta paesi a tenere conferenze. Dal 1998 al 2001 è stato inoltre membro della Commissione UNESCO austriaca sciolta nel 2001.\nHerbert Arlt è infine membro della commissione della “Elias Canetti Gesellschaft” e del “Verband Bulgarischer WissenschafterInnen”.\nhttp://www.inst.at/gremien/arlt.htm \nProgramma
URL:https://www.austriacult.roma.it/evento/1918-crolli-rivoluzioni-e-trasformazioni-nelleuropa-centrale-tra-storia-e-letteratura/
LOCATION:Ragusa Ibla – Ex Convento di Santa Teresa
CATEGORIES:Convegno
ATTACH;FMTTYPE=image/jpeg:https://www.austriacult.roma.it/wp-content/uploads/2018/11/Foto-locandina.jpg
END:VEVENT
END:VCALENDAR