BEGIN:VCALENDAR
VERSION:2.0
PRODID:-//Forum Austriaco di Cultura Roma - ECPv5.12.4//NONSGML v1.0//EN
CALSCALE:GREGORIAN
METHOD:PUBLISH
X-WR-CALNAME:Forum Austriaco di Cultura Roma
X-ORIGINAL-URL:https://www.austriacult.roma.it/de
X-WR-CALDESC:Events for Forum Austriaco di Cultura Roma
BEGIN:VTIMEZONE
TZID:Europe/Berlin
BEGIN:DAYLIGHT
TZOFFSETFROM:+0100
TZOFFSETTO:+0200
TZNAME:CEST
DTSTART:20230326T010000
END:DAYLIGHT
BEGIN:STANDARD
TZOFFSETFROM:+0200
TZOFFSETTO:+0100
TZNAME:CET
DTSTART:20231029T010000
END:STANDARD
END:VTIMEZONE
BEGIN:VEVENT
DTSTART;TZID=Europe/Berlin:20230317T200000
DTEND;TZID=Europe/Berlin:20230317T200000
DTSTAMP:20260421T224103
CREATED:20230227T085959Z
LAST-MODIFIED:20230317T113144Z
UID:12924-1679083200-1679083200@www.austriacult.roma.it
SUMMARY:ABGESAGT! WINTERREISE | Clara Frühstück\, Oliver Welter
DESCRIPTION:Das heutige Konzert musste leider Krankheitsbedingt ABGESAGT werden!  \nWir bitten um Ihr Verständnis! \n  \nFür diese Neuinterpretation von Franz Schuberts und Wilhelm Müllers Liederzyklus Winterreise verbündete sich Oliver Welter\, Musiker und Sänger der österreichischen Kultband NAKED LUNCH\, mit der Pianistin\, Klang- und Performance-Künstlerin Clara Frühstück. Entstanden ist auf Einladung des Burgtheaters eine ebenso radikale wie emotional berührende Interpretation der Winterreise\, die bei ihrer Uraufführung im Juni 2021 im Akademietheater mit anhaltenden Standing Ovations und begeisterten medialen Reaktionen gefeiert wurde. Vielleicht ein Wendepunkt in der Rezeption dieses existentiellen Meisterwerks von Schubert und Müller\, dessen schaurig schönem Wesen Welter und Frühstück mit einem gewachsenen Verständnis für Pop\, Folk und Rock und leidenschaftlicher Genauigkeit auf den Grund gehen. Eine bewegende Reise direkt in die düstere Seele des bekanntesten Liederzyklus der Welt. \nhttp://winter-reise.com/ \nClara Frühstück (*1982) lebt und arbeitet in Wien. Sie studierte Klavier\, Kammermusik und Angewandte Dramaturgie an den Universitäten für Musik und darstellende Kunst Wien und Graz sowie an der Hanns Eisler Hochschule Berlin und der Escuela Superior Reina Sofia Madrid. Neben der klassischen Musik und ihrer vielfältigen Zusammenarbeit mit Musiker*innen und Komponist*innen geht Frühstück bereits seit ihrer Jugend auch ihrer Leidenschaft für andere Kunstformen nach. Sie entwickelt extravagante Konzepte\, die einen unverkrampften Musikzugang ermöglichen\, um ein möglichst vielschichtiges Publikum zusammenzuführen.  \nwww.clarafruehstueck.com \nOliver Welter\, geb. in Klagenfurt\, lebt und arbeitet Wien. Er ist seit den 1990er Jahren als Sänger\, Songautor und Komponist aus der populär-kulturellen Szene Mitteleuropas nicht mehr wegzudenken. Als Frontman der Band Naked Lunch veröffentlichte er viele\, von der internationalen Presse hochgelobte\, Tonträger und tourte mit seiner Band durch Europa\, Nordamerika und Asien. Er wirkt als Komponist für Theater\, (u.a. Volkstheater Wien\, Schauspielhaus Düsseldorf etc.) sowie für Kino- und Fernsehfilme. Seit einigen Jahren ist er zudem erfolgreich als Schauspieler\, freier Autor und Theaterregisseur tätig. Für seine künstlerische Tätigkeit hat er zahlreiche Würdigungen und Preise erhalten.
URL:https://www.austriacult.roma.it/de/veranstaltung/winterreise-clara-fruhstuck-oliver-welter/
LOCATION:Rom – Österreichisches Kulturforum Rom\, Viale Bruno Buozzi 113\, 00197
CATEGORIES:Concerto
ATTACH;FMTTYPE=image/png:https://www.austriacult.roma.it/wp-content/uploads/2023/02/Winter.png
END:VEVENT
END:VCALENDAR