BEGIN:VCALENDAR
VERSION:2.0
PRODID:-//Forum Austriaco di Cultura Roma - ECPv5.12.4//NONSGML v1.0//EN
CALSCALE:GREGORIAN
METHOD:PUBLISH
X-WR-CALNAME:Forum Austriaco di Cultura Roma
X-ORIGINAL-URL:https://www.austriacult.roma.it/de
X-WR-CALDESC:Events for Forum Austriaco di Cultura Roma
BEGIN:VTIMEZONE
TZID:Europe/Berlin
BEGIN:DAYLIGHT
TZOFFSETFROM:+0100
TZOFFSETTO:+0200
TZNAME:CEST
DTSTART:20220327T010000
END:DAYLIGHT
BEGIN:STANDARD
TZOFFSETFROM:+0200
TZOFFSETTO:+0100
TZNAME:CET
DTSTART:20221030T010000
END:STANDARD
END:VTIMEZONE
BEGIN:VEVENT
DTSTART;TZID=Europe/Berlin:20221203T130000
DTEND;TZID=Europe/Berlin:20221203T173000
DTSTAMP:20260422T063907
CREATED:20221117T114657Z
LAST-MODIFIED:20221117T114918Z
UID:12632-1670072400-1670088600@www.austriacult.roma.it
SUMMARY:UNSER SÜSSER ADVENT
DESCRIPTION:Ein unbeschwerter Moment vorweihnachtlicher Freude mit kleinen süßen und salzigen Köstlichkeiten österreichischer Tradition zum sofortigen Genuss\nWeihnachtsbäckerei und kleine Geschenksideen können erworben werden\nFür eine weihnachtliche Stimmung sorgen ein musikalisches Intermezzo (16.30) unseres neugeborenen Chores „Felix Austria“ und eine Tombola mit vielen interessanten Gewinnen\nFür Infos: austriacinroma@gmail.com
URL:https://www.austriacult.roma.it/de/veranstaltung/unser-susser-advent/
LOCATION:Rom – Österreichisches Kulturforum Rom\, Viale Bruno Buozzi 113\, 00197
ATTACH;FMTTYPE=image/png:https://www.austriacult.roma.it/wp-content/uploads/2022/11/advent.png
END:VEVENT
END:VCALENDAR