BEGIN:VCALENDAR
VERSION:2.0
PRODID:-//Forum Austriaco di Cultura Roma - ECPv5.12.4//NONSGML v1.0//EN
CALSCALE:GREGORIAN
METHOD:PUBLISH
X-WR-CALNAME:Forum Austriaco di Cultura Roma
X-ORIGINAL-URL:https://www.austriacult.roma.it/de
X-WR-CALDESC:Events for Forum Austriaco di Cultura Roma
BEGIN:VTIMEZONE
TZID:Europe/Berlin
BEGIN:DAYLIGHT
TZOFFSETFROM:+0100
TZOFFSETTO:+0200
TZNAME:CEST
DTSTART:20250330T010000
END:DAYLIGHT
BEGIN:STANDARD
TZOFFSETFROM:+0200
TZOFFSETTO:+0100
TZNAME:CET
DTSTART:20251026T010000
END:STANDARD
END:VTIMEZONE
BEGIN:VEVENT
DTSTART;TZID=Europe/Berlin:20251010T150000
DTEND;TZID=Europe/Berlin:20251010T190000
DTSTAMP:20260420T120129
CREATED:20250918T135023Z
LAST-MODIFIED:20251008T100225Z
UID:24042-1760108400-1760122800@www.austriacult.roma.it
SUMMARY:EIN ABEND MIT DACIA MARAINI UND DER ASSOCIAZIONE ANTONELLO DA MESSINA
DESCRIPTION:Die Präsidentinnen der Associazione Antonello da Messina (Präsidentin Milena Romeo) und der Fondation Erica Sauter\, Genève (Prof. Dr. Dagmar Reichardt) führen im Forum Austriaco in Rom vor Publikum gemeinsam durch eine feierliche Preisverleihung.\nEhrengast der Veranstaltung ist die italienische Autorin Dacia Maraini (* Fiesole\, 1936)\, die im Rahmen einer Podiumsdiskussion mit drei Literaturwissenschaftlern die Verbreitung ihres Werks diskutieren wird. Anlass und Mittelpunkt dieses Gesprächs ist die Veröffentlichung eines Buchs über die weltweiten Übersetzungen des Werks von Dacia Maraini. Das Symposium\, auf dem die darin vorgestellten Forschungsergebnisse beruhen\, fand zu Projektbeginn bereits im Forum Austriaco unter Leitung von Dagmar Reichardt\, Professorin an der Lettischen Akademie für Kultur in Riga\, Lettland\, statt.\nNach der Vorstellung dieser auf Italienisch herausgegebenen Neuerscheinung wird Dacia Maraini feierlich der Prix Erica – European Media\, Culture\, and Science Award verliehen\, bevor die Gewinner des diesjährigen Premio Antonello da Messina mit weiteren z.T. hochkarätigen Namen bekanntgegeben werden. Eine Sopranistin und ein Pianist untermalen die Veranstaltung musikalisch. \n(Aus der Pressemitteilung der Fondation Erica Sauter) \n 
URL:https://www.austriacult.roma.it/de/veranstaltung/una-serata-con-dacia-maraini-e-lassociazione-antonello-da-messina/
LOCATION:Rom – ÖSTERREICHISCHES KULTURFORUM\, Viale Bruno Buozzi 113
CATEGORIES:Tagung,Literatur
ATTACH;FMTTYPE=image/jpeg:https://www.austriacult.roma.it/wp-content/uploads/2025/09/Le-tante-traduzioni-dellopera-di-D.-Maraini-2024-prima-di-copertina-HP.jpg
END:VEVENT
END:VCALENDAR