BEGIN:VCALENDAR
VERSION:2.0
PRODID:-//Forum Austriaco di Cultura Roma - ECPv5.12.4//NONSGML v1.0//EN
CALSCALE:GREGORIAN
METHOD:PUBLISH
X-WR-CALNAME:Forum Austriaco di Cultura Roma
X-ORIGINAL-URL:https://www.austriacult.roma.it/de
X-WR-CALDESC:Events for Forum Austriaco di Cultura Roma
BEGIN:VTIMEZONE
TZID:Europe/Berlin
BEGIN:DAYLIGHT
TZOFFSETFROM:+0100
TZOFFSETTO:+0200
TZNAME:CEST
DTSTART:20170326T010000
END:DAYLIGHT
BEGIN:STANDARD
TZOFFSETFROM:+0200
TZOFFSETTO:+0100
TZNAME:CET
DTSTART:20171029T010000
END:STANDARD
END:VTIMEZONE
BEGIN:VEVENT
DTSTART;VALUE=DATE:20170105
DTEND;VALUE=DATE:20170108
DTSTAMP:20260422T005155
CREATED:20161221T151954Z
LAST-MODIFIED:20161221T152231Z
UID:4171-1483574400-1483833599@www.austriacult.roma.it
SUMMARY:UNA NOTTE A VIENNA - Concerto per il Nuovo Anno
DESCRIPTION:Strauss Il pipistrello: Atto II e altre sorprese \nOrchestra e Coro dell’Accademia Nazionale di Santa Cecilia Gustavo Gimeno\, direttore Neri Marcorè\, voce recitante \nAuditorium Parco della Musica di Roma – Sala Santa Cecilia \nBiglietti da 19 a 52 € \nSpeciale promozione: 10% di sconto sull’acquisto del biglietto esibendo la newsletter presso il botteghino dell’Auditorium Parco della Musica (scarica qui la newsletter) \nPalazzo Orlofsky a Vienna apre le sue porte: siete tutti invitati alla festa che ha per colonna sonora il Secondo Atto del Pipistrello di Johann Strauss jr. A condurvi tra gli scherzi\, gli scandali\, gli equivoci e le storie dell’operetta viennese sarà Neri Marcorè mentre l’Orchestra e il Coro di Santa Cecilia diretti da Gustavo Gimeno eseguiranno assieme agli interpreti vocali le famose melodie e i celebri valzer che hanno reso immortale il Pipistrello. Ma non finisce qui\, perché lo spirito gioioso e spensierato della festa sarà arricchito da una serie di sorprese musicali che i protagonisti hanno preparato per voi. Pronti a stappare lo champagne? Prosit! \nMaggiori informazioni su: www.santacecilia.it
URL:https://www.austriacult.roma.it/de/veranstaltung/una-notte-a-vienna-concerto-per-il-nuovo-anno/
LOCATION:Auditorium Parco della Musica di Roma – Sala Santa Cecilia
ATTACH;FMTTYPE=image/jpeg:https://www.austriacult.roma.it/wp-content/uploads/2016/12/Gläser.jpg
END:VEVENT
END:VCALENDAR