BEGIN:VCALENDAR
VERSION:2.0
PRODID:-//Forum Austriaco di Cultura Roma - ECPv5.12.4//NONSGML v1.0//EN
CALSCALE:GREGORIAN
METHOD:PUBLISH
X-WR-CALNAME:Forum Austriaco di Cultura Roma
X-ORIGINAL-URL:https://www.austriacult.roma.it/de
X-WR-CALDESC:Events for Forum Austriaco di Cultura Roma
BEGIN:VTIMEZONE
TZID:Europe/Berlin
BEGIN:DAYLIGHT
TZOFFSETFROM:+0100
TZOFFSETTO:+0200
TZNAME:CEST
DTSTART:20200329T010000
END:DAYLIGHT
BEGIN:STANDARD
TZOFFSETFROM:+0200
TZOFFSETTO:+0100
TZNAME:CET
DTSTART:20201025T010000
END:STANDARD
END:VTIMEZONE
BEGIN:VEVENT
DTSTART;TZID=Europe/Berlin:20200521T180000
DTEND;TZID=Europe/Berlin:20200528T180000
DTSTAMP:20260421T232349
CREATED:20200427T133706Z
LAST-MODIFIED:20200626T143036Z
UID:8481-1590084000-1590688800@www.austriacult.roma.it
SUMMARY:TUBONIKA
DESCRIPTION:Tubonika ist ein steirisches Duo\, das geschmeidige Akkordeonmelodien mit den voluminösen Tönen einer Tuba zu verbinden weiß. Jonny Kölbl (Akkordeon) und Tobias Weiß (Tuba) fangen mit dem Debut-Album „ Bunte Socken“ Strömungen der traditionellen Volksmusik ein und treiben sie klanglich in eine neue Epoche. Man findet darauf Eigenkompositionen\, ein verwandeltes Pop-Lied und aufgefrischte Volksmusik. \n \nprogramma \nBegonnen hat ihre gemeinsame musikalische Laufbahn in Slowenien\, genauer gesagt in Koper\, als sich die beiden auf einer Konzertreise des European Spirit of Youth Orchestra befanden. Sie erkannten die  Harmonie der beiden Instrumente und blieben sich seither treu. \nDas junge talentiertes Zweiergespann versucht sich erfolgreich an einer Neudefinition des volkmusikalischen Klanges und entzündet dabei ein mitreißendes musikalisches Feuerwerk. Jonny Kölbl (Harmonika) und Tobias Weiß (Tuba) verschieben die Volksmusik in die Jetztzeit\, sie öffnen sie musikalisch und kreuzen sie – als ob es nichts Selbstverständlicheres gäbe – mit Elementen anderer Musikformen und Stile. So klingt in den Stücken von Tubonika ebenso der Jazz durch wie auch die Klassik\, die Weltmusik und sogar der Pop. Eine ungewöhnliche musikalische Mischung\, die von der ersten Sekunde an mitreißt. \nhttp://www.tubonika.com \n  \n  \n 
URL:https://www.austriacult.roma.it/de/veranstaltung/tubonika/
LOCATION:#ConcertiSulSofà #AustriaKulturDigital
CATEGORIES:Musik
ATTACH;FMTTYPE=image/jpeg:https://www.austriacult.roma.it/wp-content/uploads/2020/04/tubonika_credit-tubonika.jpg
END:VEVENT
END:VCALENDAR